BEGIN:VCALENDAR
PRODID:NingEventWidget-v1
VERSION:2.0
METHOD:PUBLISH
BEGIN:VTIMEZONE
TZID:America/Cancun
X-LIC-LOCATION:America/Cancun
BEGIN:DAYLIGHT
TZOFFSETFROM:-0600
TZOFFSETTO:-0500
TZNAME:CDT
DTSTART:19700405T020000
RRULE:FREQ=YEARLY;BYMONTH=4;BYDAY=1SU
END:DAYLIGHT
BEGIN:STANDARD
TZOFFSETFROM:-0500
TZOFFSETTO:-0600
TZNAME:CST
DTSTART:19701025T020000
RRULE:FREQ=YEARLY;BYMONTH=10;BYDAY=-1SU
END:STANDARD
END:VTIMEZONE
BEGIN:VEVENT
UID:2636007:Event:162207
DTSTAMP:20260424T111246Z
SUMMARY:Quincy, IL FairTax Meeting
DESCRIPTION:As most of you know, we now are running our second series 
 of radio ads promoting the FairTax We rans our first radio ads during 
 the month of November. We have found that we have received more respon
 ses and feedback about the FairTax when we ran those first ads than an
 y other form of information about the FairTax that we have tried in th
 e past. With that being said, Mary Beth Swigart of Adforce Ad Agency w
 ill be speaking to the Quincy FairTax group on how we can best market 
 the FairTax in our area and the new U. S. Illinois 18th Congressional 
 District for this coming year. This is not only our goal, it is the go
 al of other FairTax groups around the nation also to run more media ad
 s. We have found out that if there is more media exposure about the Fa
 irTax, the more candidates will come out and run on the FairTax. Mary 
 will be helping us this year, on how we will accomplish this task. If 
 you want to know more, come to the next FairTax meeting to see how you
  can help.\n\nFor more information visit http://www.fairtaxnation.com/
 events/quincy-il-fairtax-meeting-1
DTSTART;TZID=America/Cancun:20120206T183000
DTEND;TZID=America/Cancun:20120206T200000
CATEGORIES:meeting
LOCATION:Senior Citizens Building
WEBSITE:
URL:
CONTACT:217-242-7911
ORGANIZER:Glen Ebbing
ATTACH;FMTTYPE="image/jpeg":
ATTENDEE;ROLE=REQ-PARTICIPANT;PARTSTAT=ACCEPTED;RSVP=TRUE;CN="Marilyn 
 Rickert":http://www.fairtaxnation.com/profile/Marilyn
END:VEVENT
END:VCALENDAR
