BEGIN:VCALENDAR
PRODID:NingEventWidget-v1
VERSION:2.0
METHOD:PUBLISH
BEGIN:VTIMEZONE
TZID:America/Cancun
X-LIC-LOCATION:America/Cancun
BEGIN:DAYLIGHT
TZOFFSETFROM:-0600
TZOFFSETTO:-0500
TZNAME:CDT
DTSTART:19700405T020000
RRULE:FREQ=YEARLY;BYMONTH=4;BYDAY=1SU
END:DAYLIGHT
BEGIN:STANDARD
TZOFFSETFROM:-0500
TZOFFSETTO:-0600
TZNAME:CST
DTSTART:19701025T020000
RRULE:FREQ=YEARLY;BYMONTH=10;BYDAY=-1SU
END:STANDARD
END:VTIMEZONE
BEGIN:VEVENT
UID:2636007:Event:93086
DTSTAMP:20260422T104237Z
SUMMARY:Quincy IL FairTax Meeting
DESCRIPTION:We are forming a local Fair Tax group here in\nQuincy, Ill
 inois. The event is designed to make\nawareness and to educate the fun
 ctions of the FairTax at the local grass root level. If you are intere
 sted in a much simpler, fairer, less complex way to pay your federal t
 axes make a point to attend this event to learn more.\n\nFor more info
 rmation visit http://www.fairtaxnation.com/events/quincy-il-fairtax-me
 eting
DTSTART;TZID=America/Cancun:20100216T183000
DTEND;TZID=America/Cancun:20100216T200000
CATEGORIES:meeting
LOCATION:The American Legion Building
WEBSITE:http://www.quincyfairtax.org
URL:http://www.quincyfairtax.org
CONTACT:217242-7911
ORGANIZER:Glen Bebbing
ATTACH;FMTTYPE="image/jpeg":http://storage.ning.com/topology/rest/1.0/
 file/get/1080597277?profile=original
ATTENDEE;ROLE=REQ-PARTICIPANT;PARTSTAT=ACCEPTED;RSVP=TRUE;CN="Michele 
 Ray":http://www.fairtaxnation.com/profile/MicheleRay
ATTENDEE;ROLE=REQ-PARTICIPANT;PARTSTAT=ACCEPTED;RSVP=TRUE;CN="Marilyn 
 Rickert":http://www.fairtaxnation.com/profile/Marilyn
END:VEVENT
END:VCALENDAR
