BEGIN:VCALENDAR
PRODID:NingEventWidget-v1
VERSION:2.0
METHOD:PUBLISH
BEGIN:VTIMEZONE
TZID:America/Cancun
X-LIC-LOCATION:America/Cancun
BEGIN:DAYLIGHT
TZOFFSETFROM:-0600
TZOFFSETTO:-0500
TZNAME:CDT
DTSTART:19700405T020000
RRULE:FREQ=YEARLY;BYMONTH=4;BYDAY=1SU
END:DAYLIGHT
BEGIN:STANDARD
TZOFFSETFROM:-0500
TZOFFSETTO:-0600
TZNAME:CST
DTSTART:19701025T020000
RRULE:FREQ=YEARLY;BYMONTH=10;BYDAY=-1SU
END:STANDARD
END:VTIMEZONE
BEGIN:VEVENT
UID:2636007:Event:36294
DTSTAMP:20260423T130702Z
SUMMARY:Radio Event from Anchorage, Alaska today.
DESCRIPTION:Special heads up notice for Fair Tax Nation Members and Gu
 ests.\nBill Spillane, Spokesperson of FairTax.org, and California Stat
 e Director will be interviewed on the popular radio show “The Mike P
 orcaro Show” from Anchorage, Alaska and on your computer today, Marc
 h 23rd:\nAt 5:30 PM PDT, 6:30 PM MT, 7:30 PM CDT and 8:30 PM Eastern.\
 n\nTune in on your computer to www.650keni.com/main.html for streaming
  audio of this show about the Fair Tax.\n\nBe sure to use this great o
 pportunity to hear the latest news direct from the top. Also invite gu
 ests and friends to introduce them to the Fair Tax.\nIt is important t
 o tune in and for all of us to connect to the streaming audio at the l
 ink listed. Your action will indicate high interest in the Fair Tax pr
 ogram. Let’s have a big turnout of listeners and it could lead to bi
 gger things. (Please see the blog about donating a few minutes each we
 ek at:\nhttp://fairtaxnation.ning.com/profiles/blogs/will-you-donate-a
 -few-minutes)\n\nThis announcement is a special service arranged by Fa
 irTax Nation and FairTax.org\nCome to the site daily and look for thes
 e announcements.\n\nFor more information visit http://www.fairtaxnatio
 n.com/events/radio-event-from-anchorage
DTSTART;TZID=America/Cancun:20090323T173000
DTEND;TZID=America/Cancun:20090323T180000
CATEGORIES:radio, interview
LOCATION:650 AM KENI
WEBSITE:http://www.650keni.com/main.html
URL:http://www.650keni.com/main.html
CONTACT:
ORGANIZER:C. Jason McKinley, National Media Manager, FairTax.org
ATTACH;FMTTYPE="image/jpeg":http://storage.ning.com/topology/rest/1.0/
 file/get/1080578630?profile=original
ATTENDEE;ROLE=REQ-PARTICIPANT;PARTSTAT=ACCEPTED;RSVP=TRUE;CN="Fla Vol"
 :http://www.fairtaxnation.com/profile/StewRusby
END:VEVENT
END:VCALENDAR
