BEGIN:VCALENDAR
PRODID:NingEventWidget-v1
VERSION:2.0
METHOD:PUBLISH
BEGIN:VTIMEZONE
TZID:America/Cancun
X-LIC-LOCATION:America/Cancun
BEGIN:DAYLIGHT
TZOFFSETFROM:-0600
TZOFFSETTO:-0500
TZNAME:CDT
DTSTART:19700405T020000
RRULE:FREQ=YEARLY;BYMONTH=4;BYDAY=1SU
END:DAYLIGHT
BEGIN:STANDARD
TZOFFSETFROM:-0500
TZOFFSETTO:-0600
TZNAME:CST
DTSTART:19701025T020000
RRULE:FREQ=YEARLY;BYMONTH=10;BYDAY=-1SU
END:STANDARD
END:VTIMEZONE
BEGIN:VEVENT
UID:2636007:Event:36641
DTSTAMP:20260423T174843Z
SUMMARY:Radio Event, Ken Hoagland on WTBQ,Warwick, NY
DESCRIPTION:Special heads up notice for Fair Tax Nation Members and Gu
 ests.\nKen Hoagland, National Spokesperson of FairTax.org will be inte
 rviewed on the popular radio program “The Steve Neuhaus Show” in W
 arwick, NY and on your computer Wednesday, March 24th on WTBQ 1110 AM 
 on the dial:\nAt 9:00 AM PDT, 10:00 AM MT, 11:00 AM CDT and 12:00 PM E
 astern.\n\nTune in on your computer to www.wtbq.com for streaming audi
 o of this show about the Fair Tax.\n\nBe sure to use this great opport
 unity to hear the latest news direct from the top. Also invite guests 
 and friends to introduce them to the Fair Tax.\nIt is important to tun
 e in and for all of us to connect to the streaming audio at the link l
 isted. Your action will indicate high interest in the Fair Tax program
 . Let’s have a big turnout of listeners and it could lead to bigger 
 things. (Please see the blog about donating a few minutes each week at
 :\nhttp://fairtaxnation.ning.com/profiles/blogs/will-you-donate-a-few-
 minutes)\n\nThis announcement is a special service arranged by FairTax
  Nation and FairTax.org\nCome to the site daily and look for these ann
 ouncements.\n\nFor more information visit http://www.fairtaxnation.com
 /events/radio-event-ken-hoagland-on-1
DTSTART;TZID=America/Cancun:20090325T120000
DTEND;TZID=America/Cancun:20090325T130000
CATEGORIES:radio, interview, call, in, streaming, audio, fair, tax
LOCATION:Warwick, NY WTBQ 1110 AM
WEBSITE:http://www.wtbq.com
URL:http://www.wtbq.com
CONTACT:
ORGANIZER:C. Jason McKinley, National Media Manager, FairTax.org
ATTACH;FMTTYPE="image/jpeg":http://storage.ning.com/topology/rest/1.0/
 file/get/1080578689?profile=original
ATTENDEE;ROLE=REQ-PARTICIPANT;PARTSTAT=ACCEPTED;RSVP=TRUE;CN="Fla Vol"
 :http://www.fairtaxnation.com/profile/StewRusby
END:VEVENT
END:VCALENDAR
