BEGIN:VCALENDAR
PRODID:NingEventWidget-v1
VERSION:2.0
METHOD:PUBLISH
BEGIN:VTIMEZONE
TZID:America/Cancun
X-LIC-LOCATION:America/Cancun
BEGIN:DAYLIGHT
TZOFFSETFROM:-0600
TZOFFSETTO:-0500
TZNAME:CDT
DTSTART:19700405T020000
RRULE:FREQ=YEARLY;BYMONTH=4;BYDAY=1SU
END:DAYLIGHT
BEGIN:STANDARD
TZOFFSETFROM:-0500
TZOFFSETTO:-0600
TZNAME:CST
DTSTART:19701025T020000
RRULE:FREQ=YEARLY;BYMONTH=10;BYDAY=-1SU
END:STANDARD
END:VTIMEZONE
BEGIN:VEVENT
UID:2636007:Event:36816
DTSTAMP:20260423T125831Z
SUMMARY:Radio Event, Ken Hoagland on WHO,Des Moines
DESCRIPTION:Special heads up notice for Fair Tax Nation Members and Gu
 ests.\nKen Hoagland, National Spokesperson of FairTax.org will be inte
 rviewed on the popular radio show “The Steve Deace Show” in Des Mo
 ines, IA and on your computer Friday, March 27th on WHO 1040 AM on the
  dial:\nAt 2:20 PM PDT, 3:20 PM MT, 4:20 PM CDT and 5:20 PM Eastern.\n
 \nTune in on your computer to www.whoradio.com for streaming audio of 
 this show about the Fair Tax.\n\nBe sure to use this great opportunity
  to hear the latest news direct from the top. Also invite guests and f
 riends to introduce them to the Fair Tax.\nIt is important to tune in 
 and for all of us to connect to the streaming audio at the link listed
 . Your action will indicate high interest in the Fair Tax program. Let
 ’s have a big turnout of listeners and it could lead to bigger thing
 s. (Please see the blog about donating a few minutes each week at:\nht
 tp://fairtaxnation.ning.com/profiles/blogs/will-you-donate-a-few-minut
 es)\n\nThis announcement is a special service arranged by FairTax Nati
 on and FairTax.org\n\nFor more information visit http://www.fairtaxnat
 ion.com/events/radio-event-ken-hoagland-on-2
DTSTART;TZID=America/Cancun:20090327T161500
DTEND;TZID=America/Cancun:20090327T163000
CATEGORIES:radio, interview, fair-tax, hoagland
LOCATION:WHO 1040 AM and your computer
WEBSITE:http://www.whoradio.com
URL:http://www.whoradio.com
CONTACT:
ORGANIZER:C. Jason McKinley, National Media Manager, FairTax.org
ATTACH;FMTTYPE="image/jpeg":http://storage.ning.com/topology/rest/1.0/
 file/get/1080579387?profile=original
ATTENDEE;ROLE=REQ-PARTICIPANT;PARTSTAT=ACCEPTED;RSVP=TRUE;CN="Fla Vol"
 :http://www.fairtaxnation.com/profile/StewRusby
END:VEVENT
END:VCALENDAR
