BEGIN:VCALENDAR
PRODID:NingEventWidget-v1
VERSION:2.0
METHOD:PUBLISH
BEGIN:VTIMEZONE
TZID:America/Cancun
X-LIC-LOCATION:America/Cancun
BEGIN:DAYLIGHT
TZOFFSETFROM:-0600
TZOFFSETTO:-0500
TZNAME:CDT
DTSTART:19700405T020000
RRULE:FREQ=YEARLY;BYMONTH=4;BYDAY=1SU
END:DAYLIGHT
BEGIN:STANDARD
TZOFFSETFROM:-0500
TZOFFSETTO:-0600
TZNAME:CST
DTSTART:19701025T020000
RRULE:FREQ=YEARLY;BYMONTH=10;BYDAY=-1SU
END:STANDARD
END:VTIMEZONE
BEGIN:VEVENT
UID:2636007:Event:38766
DTSTAMP:20260424T042401Z
SUMMARY:Radio Event, Ken Hoagland on WGAC,Augusta,GA
DESCRIPTION:Special heads up notice for Fair Tax Nation Members and Gu
 ests.\nKen Hoagland, National Communications Director of FairTax.org w
 ill be interviewed on the popular afternoon radio show With Austin Rho
 des in Augusta, GA and on your computer Thursday, April 2nd, on WGAC 5
 80 AM on the dial:\nAt 12:00 PM PDT, 1:00 PM MT, 2:00 PM CDT and 3:00 
 PM Eastern.\n\nTune in on your computer to www.wgac.com for streaming 
 audio of this show about the Fair Tax.\n\nBe sure to use this great op
 portunity to hear the latest news direct from the top. Also invite gue
 sts and friends to introduce them to the Fair Tax.\nIt is important to
  tune in and for all of us to connect to the streaming audio at the li
 nk listed. Your action will indicate high interest in the Fair Tax pro
 gram. Let’s have a big turnout of listeners and it could lead to big
 ger things. (Please see the blog about donating a few minutes each wee
 k at:\nhttp://fairtaxnation.ning.com/profiles/blogs/will-you-donate-a-
 few-minutes)\n\nThis announcement is a special service arranged by Fai
 rTax Nation and FairTax.org\nCome to the site daily and look for these
  announcements.\n\nFor more information visit http://www.fairtaxnation
 .com/events/radio-event-ken-hoagland-on-3
DTSTART;TZID=America/Cancun:20090402T150000
DTEND;TZID=America/Cancun:20090402T153000
CATEGORIES:radio, interview
LOCATION:580  AM and your computer
WEBSITE:http://www.wgac.com
URL:http://www.wgac.com
CONTACT:
ORGANIZER:C. Jason McKinley, National Media Manager, FairTax.org
ATTACH;FMTTYPE="image/jpeg":http://storage.ning.com/topology/rest/1.0/
 file/get/1080580267?profile=original
ATTENDEE;ROLE=REQ-PARTICIPANT;PARTSTAT=ACCEPTED;RSVP=TRUE;CN="Fla Vol"
 :http://www.fairtaxnation.com/profile/StewRusby
END:VEVENT
END:VCALENDAR
