BEGIN:VCALENDAR
PRODID:NingEventWidget-v1
VERSION:2.0
METHOD:PUBLISH
BEGIN:VTIMEZONE
TZID:America/Cancun
X-LIC-LOCATION:America/Cancun
BEGIN:DAYLIGHT
TZOFFSETFROM:-0600
TZOFFSETTO:-0500
TZNAME:CDT
DTSTART:19700405T020000
RRULE:FREQ=YEARLY;BYMONTH=4;BYDAY=1SU
END:DAYLIGHT
BEGIN:STANDARD
TZOFFSETFROM:-0500
TZOFFSETTO:-0600
TZNAME:CST
DTSTART:19701025T020000
RRULE:FREQ=YEARLY;BYMONTH=10;BYDAY=-1SU
END:STANDARD
END:VTIMEZONE
BEGIN:VEVENT
UID:2636007:Event:38775
DTSTAMP:20260424T054851Z
SUMMARY:Radio Event, Ken Hoagland on KMOX, St. Louis, MO
DESCRIPTION:Special heads up notice for Fair Tax Nation Members and Gu
 ests.\nKen Hoagland, National Communications Director of FairTax.org w
 ill be interviewed on the popular afternoon radio show “The Mark Rea
 rdon Show” in St. Louis, MO and on your computer Thursday, April 2nd
 , on KMOX 1120 AM on the dial:\nAt 1:20 PM PDT, 2:20 PM MT, 3:20 PM CD
 T and 4:20 PM Eastern.\n\nTune in on your computer to www.kmox.com for
  streaming audio of this show about the Fair Tax.\n\nBe sure to use th
 is great opportunity to hear the latest news direct from the top. Also
  invite guests and friends to introduce them to the Fair Tax.\nIt is i
 mportant to tune in and for all of us to connect to the streaming audi
 o at the link listed. Your action will indicate high interest in the F
 air Tax program. Let’s have a big turnout of listeners and it could 
 lead to bigger things. (Please see the blog about donating a few minut
 es each week at:\nhttp://fairtaxnation.ning.com/profiles/blogs/will-yo
 u-donate-a-few-minutes)\n\nThis announcement is a special service arra
 nged by FairTax Nation and FairTax.org\nCome to the site daily and loo
 k for these announcements.\n\nFor more information visit http://www.fa
 irtaxnation.com/events/radio-event-ken-hoagland-on-4
DTSTART;TZID=America/Cancun:20090402T151500
DTEND;TZID=America/Cancun:20090402T153000
CATEGORIES:radio, interview, by, national, communications, director
LOCATION:KMOX 1120 AM and your computer
WEBSITE:http://www.kmox.com
URL:http://www.kmox.com
CONTACT:
ORGANIZER:C. Jason McKinley, National Media Manager, FairTax.org
ATTACH;FMTTYPE="image/jpeg":http://storage.ning.com/topology/rest/1.0/
 file/get/1080580281?profile=original
ATTENDEE;ROLE=REQ-PARTICIPANT;PARTSTAT=ACCEPTED;RSVP=TRUE;CN="Fla Vol"
 :http://www.fairtaxnation.com/profile/StewRusby
END:VEVENT
END:VCALENDAR
