BEGIN:VCALENDAR
PRODID:NingEventWidget-v1
VERSION:2.0
METHOD:PUBLISH
BEGIN:VTIMEZONE
TZID:America/Cancun
X-LIC-LOCATION:America/Cancun
BEGIN:DAYLIGHT
TZOFFSETFROM:-0600
TZOFFSETTO:-0500
TZNAME:CDT
DTSTART:19700405T020000
RRULE:FREQ=YEARLY;BYMONTH=4;BYDAY=1SU
END:DAYLIGHT
BEGIN:STANDARD
TZOFFSETFROM:-0500
TZOFFSETTO:-0600
TZNAME:CST
DTSTART:19701025T020000
RRULE:FREQ=YEARLY;BYMONTH=10;BYDAY=-1SU
END:STANDARD
END:VTIMEZONE
BEGIN:VEVENT
UID:2636007:Event:38786
DTSTAMP:20260424T115440Z
SUMMARY:Radio Event, Ken Hoagland on WKYX, Paducah, KY
DESCRIPTION:Special heads up notice for Fair Tax Nation Members and Gu
 ests.\nKen Hoagland, National Communications Director of FairTax.org w
 ill be interviewed on the popular morning radio show “The Greg Dunke
 r Show” in Padukah, KY, Friday, April 3rd, on WKYX 570 AM on the dia
 l:\nAt 6:15 AM PDT, 7:15 AM MT, 8:15 AM CDT and 9:15 AM Eastern.\n\nBe
  sure to use this great opportunity to hear the latest news direct fro
 m the top. Also invite guests and friends to introduce them to the Fai
 r Tax.\nYour action will indicate high interest in the Fair Tax progra
 m. Let’s have a big turnout of listeners and it could lead to bigger
  things. (Please see the blog about donating a few minutes each week a
 t:\nhttp://fairtaxnation.ning.com/profiles/blogs/will-you-donate-a-few
 -minutes)\n\nThis announcement is a special service arranged by FairTa
 x Nation and FairTax.org\nCome to the site daily and look for these an
 nouncements.\n\nFor more information visit http://www.fairtaxnation.co
 m/events/radio-event-ken-hoagland-on-5
DTSTART;TZID=America/Cancun:20090403T081500
DTEND;TZID=America/Cancun:20090403T083000
CATEGORIES:radio, interview, by, national, communications, director
LOCATION:WKYX 570 AM
WEBSITE:
URL:
CONTACT:
ORGANIZER:C. Jason McKinley, National Media Manager, FairTax.org
ATTACH;FMTTYPE="image/jpeg":http://storage.ning.com/topology/rest/1.0/
 file/get/1080579809?profile=original
ATTENDEE;ROLE=REQ-PARTICIPANT;PARTSTAT=ACCEPTED;RSVP=TRUE;CN="Fla Vol"
 :http://www.fairtaxnation.com/profile/StewRusby
END:VEVENT
END:VCALENDAR
