BEGIN:VCALENDAR
PRODID:NingEventWidget-v1
VERSION:2.0
METHOD:PUBLISH
BEGIN:VTIMEZONE
TZID:America/Cancun
X-LIC-LOCATION:America/Cancun
BEGIN:DAYLIGHT
TZOFFSETFROM:-0600
TZOFFSETTO:-0500
TZNAME:CDT
DTSTART:19700405T020000
RRULE:FREQ=YEARLY;BYMONTH=4;BYDAY=1SU
END:DAYLIGHT
BEGIN:STANDARD
TZOFFSETFROM:-0500
TZOFFSETTO:-0600
TZNAME:CST
DTSTART:19701025T020000
RRULE:FREQ=YEARLY;BYMONTH=10;BYDAY=-1SU
END:STANDARD
END:VTIMEZONE
BEGIN:VEVENT
UID:2636007:Event:63310
DTSTAMP:20260421T141628Z
SUMMARY:Radio, FairTax-Mike Frederick
DESCRIPTION:1140 AM KCXL (streaming @ www.kcxl.com)\n\nCDT\n\nDavid Br
 ewer - davekcxl@yahoo.com\n\nBill Kerseten - billkcxl@kc.rr.com\n\nFor
  more information visit http://www.fairtaxnation.com/events/radio-fair
 taxmike-frederick
DTSTART;TZID=America/Cancun:20090611T123000
DTEND;TZID=America/Cancun:20090611T133000
CATEGORIES:radio, interview
LOCATION:Kansas City, Missouri
WEBSITE:http://www.kcxl.com
URL:http://www.kcxl.com
CONTACT:Callers Toll FREE 816 - 576-7800
ORGANIZER;CN="alfairtax-Kelley Frederick":http://www.fairtaxnation.com
 /profile/alfairtax
ATTACH;FMTTYPE="image/jpeg":http://storage.ning.com/topology/rest/1.0/
 file/get/1080587951?profile=original
ATTENDEE;ROLE=REQ-PARTICIPANT;PARTSTAT=ACCEPTED;RSVP=TRUE;CN="alfairta
 x-Kelley Frederick":http://www.fairtaxnation.com/profile/alfairtax
END:VEVENT
END:VCALENDAR
