BEGIN:VCALENDAR
PRODID:NingEventWidget-v1
VERSION:2.0
METHOD:PUBLISH
BEGIN:VTIMEZONE
TZID:America/Cancun
X-LIC-LOCATION:America/Cancun
BEGIN:DAYLIGHT
TZOFFSETFROM:-0600
TZOFFSETTO:-0500
TZNAME:CDT
DTSTART:19700405T020000
RRULE:FREQ=YEARLY;BYMONTH=4;BYDAY=1SU
END:DAYLIGHT
BEGIN:STANDARD
TZOFFSETFROM:-0500
TZOFFSETTO:-0600
TZNAME:CST
DTSTART:19701025T020000
RRULE:FREQ=YEARLY;BYMONTH=10;BYDAY=-1SU
END:STANDARD
END:VTIMEZONE
BEGIN:VEVENT
UID:2636007:Event:51545
DTSTAMP:20260421T113419Z
SUMMARY:Radio, Guest Host, Mike Frederick, WAPI 1070am
DESCRIPTION:Special Guest Host: Mike Frederick, FairTax-National Spoke
 sperson and Alabama State Director\n\nWhat: Mike will be filling in fo
 r the the regular host and talking about the FairTax nationally as wel
 l as in Alabama. Call in with your FairTax Questions.\n\nWho: The Matt
  Murphy Show, WAPI 1070am\nCentral Standard Time\nCall-In: 1-866-927-1
 070\nListen on Internet FREE http://www.wapi1070.com/\nListen Locally:
  WAPI 1070am, Birmingham, AL\n\nFor more information visit http://www.
 fairtaxnation.com/events/radio-guest-host-mike
DTSTART;TZID=America/Cancun:20090428T070000
DTEND;TZID=America/Cancun:20090428T100000
CATEGORIES:radio
LOCATION:Birmingham, Alabama and Internet
WEBSITE:http://www.wapi1070.com/
URL:http://www.wapi1070.com/
CONTACT:1-866-927-1070
ORGANIZER;CN="alfairtax-Kelley Frederick":http://www.fairtaxnation.com
 /profile/alfairtax
ATTACH;FMTTYPE="image/jpeg":http://storage.ning.com/topology/rest/1.0/
 file/get/1080583699?profile=original
ATTENDEE;ROLE=REQ-PARTICIPANT;PARTSTAT=ACCEPTED;RSVP=TRUE;CN="alfairta
 x-Kelley Frederick":http://www.fairtaxnation.com/profile/alfairtax
END:VEVENT
END:VCALENDAR
