BEGIN:VCALENDAR
PRODID:NingEventWidget-v1
VERSION:2.0
METHOD:PUBLISH
BEGIN:VTIMEZONE
TZID:America/Cancun
X-LIC-LOCATION:America/Cancun
BEGIN:DAYLIGHT
TZOFFSETFROM:-0600
TZOFFSETTO:-0500
TZNAME:CDT
DTSTART:19700405T020000
RRULE:FREQ=YEARLY;BYMONTH=4;BYDAY=1SU
END:DAYLIGHT
BEGIN:STANDARD
TZOFFSETFROM:-0500
TZOFFSETTO:-0600
TZNAME:CST
DTSTART:19701025T020000
RRULE:FREQ=YEARLY;BYMONTH=10;BYDAY=-1SU
END:STANDARD
END:VTIMEZONE
BEGIN:VEVENT
UID:2636007:Event:36978
DTSTAMP:20260423T193429Z
SUMMARY:Radio Interview, 4 PM today, Phil Hinson, on computer
DESCRIPTION:Special heads up notice for Fair Tax Nation Members and Gu
 ests.\nPhil Hinson, National Spokesperson of FairTax.org will be inter
 viewed on the popular radio show “Faith & Freedom” in Norfolk, VA 
 and on your computer Today, Thursday, March 26th on WPMH 670 AM on the
  dial:\nAt 1:00 PM PDT, 2:00 PM MT, 3:00 PM CDT and 4:00 PM Eastern.\n
 \nTune in on your computer to www.wpmhradio.net for streaming audio of
  this show about the Fair Tax.\n\nBe sure to use this great opportunit
 y to hear the latest news direct from the top. Also invite guests and 
 friends to introduce them to the Fair Tax.\nIt is important to tune in
  and for all of us to connect to the streaming audio at the link liste
 d. Your action will indicate high interest in the Fair Tax program. Le
 t’s have a big turnout of listeners and it could lead to bigger thin
 gs. (Please see the blog about donating a few minutes each week at:\nh
 ttp://fairtaxnation.ning.com/profiles/blogs/will-you-donate-a-few-minu
 tes)\n\nThis announcement is a special service arranged by FairTax Nat
 ion and FairTax.org\nCome to the site daily and look for these announc
 ements.\n\nFor more information visit http://www.fairtaxnation.com/eve
 nts/radio-interview-4-pm-today
DTSTART;TZID=America/Cancun:20090326T160000
DTEND;TZID=America/Cancun:20090326T170000
CATEGORIES:radio, interview, call, in, streaming, audio, fair, tax
LOCATION:Norfolk, VA and your computer
WEBSITE:http://www.wpmhradio.net
URL:http://www.wpmhradio.net
CONTACT:
ORGANIZER:C. Jason McKinley, National Media Manager, FairTax.org
ATTACH;FMTTYPE="image/jpeg":http://storage.ning.com/topology/rest/1.0/
 file/get/1080578571?profile=original
ATTENDEE;ROLE=REQ-PARTICIPANT;PARTSTAT=ACCEPTED;RSVP=TRUE;CN="Fla Vol"
 :http://www.fairtaxnation.com/profile/StewRusby
END:VEVENT
END:VCALENDAR
