BEGIN:VCALENDAR
PRODID:NingEventWidget-v1
VERSION:2.0
METHOD:PUBLISH
BEGIN:VTIMEZONE
TZID:America/Cancun
X-LIC-LOCATION:America/Cancun
BEGIN:DAYLIGHT
TZOFFSETFROM:-0600
TZOFFSETTO:-0500
TZNAME:CDT
DTSTART:19700405T020000
RRULE:FREQ=YEARLY;BYMONTH=4;BYDAY=1SU
END:DAYLIGHT
BEGIN:STANDARD
TZOFFSETFROM:-0500
TZOFFSETTO:-0600
TZNAME:CST
DTSTART:19701025T020000
RRULE:FREQ=YEARLY;BYMONTH=10;BYDAY=-1SU
END:STANDARD
END:VTIMEZONE
BEGIN:VEVENT
UID:2636007:Event:29485
DTSTAMP:20260423T162404Z
SUMMARY:Radio interview with Ken Hoagland, St. Joseph, MO.
DESCRIPTION:Special heads up notice for Fair Tax Nation Members and gu
 ests.\nKen Hoagland, National Communications Director of FairTax.org, 
 will be interviewed on the morning news program “Hotline” with Bar
 ry Birr , on KFEQ 680 AM on Wednesday, March 25th. From the studios in
  St. Joseph, MO.\nAt 9:00 AM CDT.\nBe sure to use this great opportuni
 ty to hear the latest news direct from the top. Also invite guests and
  friends to introduce them to the Fair Tax.\n\nThis announcement is a 
 special service arranged by FairTax Nation and FairTax.org\nCome to th
 e site daily and look for these announcements.\n\nFor more information
  visit http://www.fairtaxnation.com/events/radio-interview-with-ken-2
DTSTART;TZID=America/Cancun:20090325T090000
DTEND;TZID=America/Cancun:20090325T091500
CATEGORIES:on, air, interview, about, the, fair, tax
LOCATION:On Radio KFEQ 680 AM, St. Joseph, MO
WEBSITE:
URL:
CONTACT:
ORGANIZER:C. Jason McKinley, National Media Manager, FairTax.org
ATTACH;FMTTYPE="image/jpeg":http://storage.ning.com/topology/rest/1.0/
 file/get/1080576254?profile=original
ATTENDEE;ROLE=REQ-PARTICIPANT;PARTSTAT=ACCEPTED;RSVP=TRUE;CN="Fla Vol"
 :http://www.fairtaxnation.com/profile/StewRusby
END:VEVENT
END:VCALENDAR
