BEGIN:VCALENDAR
PRODID:NingEventWidget-v1
VERSION:2.0
METHOD:PUBLISH
BEGIN:VTIMEZONE
TZID:America/Cancun
X-LIC-LOCATION:America/Cancun
BEGIN:DAYLIGHT
TZOFFSETFROM:-0600
TZOFFSETTO:-0500
TZNAME:CDT
DTSTART:19700405T020000
RRULE:FREQ=YEARLY;BYMONTH=4;BYDAY=1SU
END:DAYLIGHT
BEGIN:STANDARD
TZOFFSETFROM:-0500
TZOFFSETTO:-0600
TZNAME:CST
DTSTART:19701025T020000
RRULE:FREQ=YEARLY;BYMONTH=10;BYDAY=-1SU
END:STANDARD
END:VTIMEZONE
BEGIN:VEVENT
UID:2636007:Event:34443
DTSTAMP:20260423T000524Z
SUMMARY:Radio interview with Ken Hoagland 8 PM tonight
DESCRIPTION:Special heads up notice for Fair Tax Nation Members and Gu
 ests.\nKen Hoagland, National Communications Director of FairTax.org, 
 will be interviewed on the evening program with Mike Pintek, on 1020 A
 M KDKA in Pittsburgh Penna. at 1020 on the dial and on your computer o
 n Tuesday, March 17th. At 5:00 PM PDT, 6:00 PM MT, 7:00 PM CDT and 8:0
 0 PM Eastern.\n\nTune in on your computer to www.kdkaradio.com streami
 ng audio of this show about the Fair Tax.\n\nBe sure to use this great
  opportunity to hear the latest news direct from the top. Also invite 
 guests and friends to introduce them to the Fair Tax.\nIt is important
  to tune in and for all of us to connect to the streaming audio at the
  link listed. Your action will indicate high interest in the Fair Tax 
 program. Let’s have a big turnout of listeners and it could lead to 
 bigger things. (Please see the blog about donating a few minutes each 
 week at:\nhttp://fairtaxnation.ning.com/profiles/blogs/will-you-donate
 -a-few-minutes)\n\nThis announcement is a special service arranged by 
 FairTax Nation and FairTax.org\nCome to the site daily and look for th
 ese announcements\n\nFor more information visit http://www.fairtaxnati
 on.com/events/radio-interview-with-ken-3
DTSTART;TZID=America/Cancun:20090317T200000
DTEND;TZID=America/Cancun:20090317T203000
CATEGORIES:radio, interview, by, national, communications, director
LOCATION:Pittsburgh,Pa. and on your computer
WEBSITE:http://www.kdkaradio.com
URL:http://www.kdkaradio.com
CONTACT:
ORGANIZER:C. Jason McKinley, National Media Manager, FairTax.org
ATTACH;FMTTYPE="image/jpeg":http://storage.ning.com/topology/rest/1.0/
 file/get/1080578115?profile=original
ATTENDEE;ROLE=REQ-PARTICIPANT;PARTSTAT=ACCEPTED;RSVP=TRUE;CN="Fla Vol"
 :http://www.fairtaxnation.com/profile/StewRusby
END:VEVENT
END:VCALENDAR
