BEGIN:VCALENDAR
PRODID:NingEventWidget-v1
VERSION:2.0
METHOD:PUBLISH
BEGIN:VTIMEZONE
TZID:America/Cancun
X-LIC-LOCATION:America/Cancun
BEGIN:DAYLIGHT
TZOFFSETFROM:-0600
TZOFFSETTO:-0500
TZNAME:CDT
DTSTART:19700405T020000
RRULE:FREQ=YEARLY;BYMONTH=4;BYDAY=1SU
END:DAYLIGHT
BEGIN:STANDARD
TZOFFSETFROM:-0500
TZOFFSETTO:-0600
TZNAME:CST
DTSTART:19701025T020000
RRULE:FREQ=YEARLY;BYMONTH=10;BYDAY=-1SU
END:STANDARD
END:VTIMEZONE
BEGIN:VEVENT
UID:2636007:Event:34995
DTSTAMP:20260423T013632Z
SUMMARY:Radio Interview with Ken Hoagland,4 PM EDT Thursday
DESCRIPTION:Special heads up notice for Fair Tax Nation Members and Gu
 ests.\nKen Hoagland, National Communications Director of FairTax.org, 
 will be interviewed on the Jordan Levi afternoon show on WTAG 580 AM i
 n Worcester (Pronounced Wooster) Mass. at 580 on the dial and on your 
 computer on Thursday, March 19th: At 1:00 PM PDT, 2:00 PM MT, 3:00 PM 
 CDT and 4:00 PM Eastern.\n\nTune in on your computer to www.wtag.com s
 treaming audio of this show about the Fair Tax.\n\nBe sure to use this
  great opportunity to hear the latest news direct from the top. Also i
 nvite guests and friends to introduce them to the Fair Tax.\nIt is imp
 ortant to tune in and for all of us to connect to the streaming audio 
 at the link listed. Your action will indicate high interest in the Fai
 r Tax program. Let’s have a big turnout of listeners and it could le
 ad to bigger things. (Please see the blog about donating a few minutes
  each week at:\nhttp://fairtaxnation.ning.com/profiles/blogs/will-you-
 donate-a-few-minutes)\n\nThis announcement is a special service arrang
 ed by FairTax Nation and FairTax.org\nCome to the site daily and look 
 for these announcements.\n\nFor more information visit http://www.fair
 taxnation.com/events/radio-interview-with-ken-4
DTSTART;TZID=America/Cancun:20090319T160000
DTEND;TZID=America/Cancun:20090319T163000
CATEGORIES:radio, hoagland, fair, tax, worcester, thurs, 4pm, edt
LOCATION:Worcester, Mass 580 AM and your computer
WEBSITE:http://www.wtag.com
URL:http://www.wtag.com
CONTACT:
ORGANIZER:C. Jason McKinley, National Media Manager, FairTax.org
ATTACH;FMTTYPE="image/jpeg":http://storage.ning.com/topology/rest/1.0/
 file/get/1080579591?profile=original
ATTENDEE;ROLE=REQ-PARTICIPANT;PARTSTAT=ACCEPTED;RSVP=TRUE;CN="Fla Vol"
 :http://www.fairtaxnation.com/profile/StewRusby
END:VEVENT
END:VCALENDAR
