BEGIN:VCALENDAR
PRODID:NingEventWidget-v1
VERSION:2.0
METHOD:PUBLISH
BEGIN:VTIMEZONE
TZID:America/Cancun
X-LIC-LOCATION:America/Cancun
BEGIN:DAYLIGHT
TZOFFSETFROM:-0600
TZOFFSETTO:-0500
TZNAME:CDT
DTSTART:19700405T020000
RRULE:FREQ=YEARLY;BYMONTH=4;BYDAY=1SU
END:DAYLIGHT
BEGIN:STANDARD
TZOFFSETFROM:-0500
TZOFFSETTO:-0600
TZNAME:CST
DTSTART:19701025T020000
RRULE:FREQ=YEARLY;BYMONTH=10;BYDAY=-1SU
END:STANDARD
END:VTIMEZONE
BEGIN:VEVENT
UID:2636007:Event:35011
DTSTAMP:20260423T100338Z
SUMMARY:Radio interview with Ken Hoagland,103.3 FM 9:30 AM Mon.
DESCRIPTION:Special heads up notice for Fair Tax Nation Members and Gu
 ests.\nKen Hoagland, National Communications Director of FairTax.org, 
 will be interviewed on the “Morning Edition with Reuben Perdue” on
  WAJR 103.3 FM in Salem, West Virginia and on your computer on Monday,
  March 23 rd:\nAt 6:30 AM PDT, 7:30 AM MT, 8:30 AM CDT and 9:30 AM Eas
 tern.\n\nTune in on your computer to www.wajr.com streaming audio of t
 his show about the Fair Tax.\n\nBe sure to use this great opportunity 
 to hear the latest news direct from the top. Also invite guests and fr
 iends to introduce them to the Fair Tax.\nIt is important to tune in a
 nd for all of us to connect to the streaming audio at the link listed.
  Your action will indicate high interest in the Fair Tax program. Let
 s have a big turnout of listeners and it could lead to bigger things
 . (Please see the blog about donating a few minutes each week at:\nhtt
 p://fairtaxnation.ning.com/profiles/blogs/will-you-donate-a-few-minute
 s)\n\nThis announcement is a special service arranged by FairTax Natio
 n and FairTax.org\nCome to the site daily and look for these announcem
 ents.\n\nFor more information visit http://www.fairtaxnation.com/event
 s/radio-interview-with-ken-5
DTSTART;TZID=America/Cancun:20090323T090000
DTEND;TZID=America/Cancun:20090323T093000
CATEGORIES:radio, interview, fair-tax, hoagland, "103.3fm", "mon.am"
LOCATION:Salem,WV and area, 103.3FM and your computer
WEBSITE:http://www.wajr.com
URL:http://www.wajr.com
CONTACT:
ORGANIZER:C. Jason McKinley, National Media Manager, FairTax.org
ATTACH;FMTTYPE="image/jpeg":http://storage.ning.com/topology/rest/1.0/
 file/get/1080579439?profile=original
ATTENDEE;ROLE=REQ-PARTICIPANT;PARTSTAT=ACCEPTED;RSVP=TRUE;CN="Bill Rol
 lyson":http://www.fairtaxnation.com/profile/BillRollyson
ATTENDEE;ROLE=REQ-PARTICIPANT;PARTSTAT=ACCEPTED;RSVP=TRUE;CN="Fla Vol"
 :http://www.fairtaxnation.com/profile/StewRusby
END:VEVENT
END:VCALENDAR
