BEGIN:VCALENDAR
PRODID:NingEventWidget-v1
VERSION:2.0
METHOD:PUBLISH
BEGIN:VTIMEZONE
TZID:America/Cancun
X-LIC-LOCATION:America/Cancun
BEGIN:DAYLIGHT
TZOFFSETFROM:-0600
TZOFFSETTO:-0500
TZNAME:CDT
DTSTART:19700405T020000
RRULE:FREQ=YEARLY;BYMONTH=4;BYDAY=1SU
END:DAYLIGHT
BEGIN:STANDARD
TZOFFSETFROM:-0500
TZOFFSETTO:-0600
TZNAME:CST
DTSTART:19701025T020000
RRULE:FREQ=YEARLY;BYMONTH=10;BYDAY=-1SU
END:STANDARD
END:VTIMEZONE
BEGIN:VEVENT
UID:2636007:Event:36275
DTSTAMP:20260423T112541Z
SUMMARY:Radio interview with Ken Hoagland
DESCRIPTION:Special heads up notice for Fair Tax Nation Members and Gu
 ests.\nKen Hoagland, National Communications Director of FairTax.org, 
 will be interviewed on the popular radio show “Cross Talk America wi
 th Victor Eliason” on national radio stations and on your computer t
 oday, March 23rd: at 12:00 PM PDT, 1:00 PM MT, 2:00 PM CDT and 3:00 PM
  Eastern.\n\nTune in on your computer to www.crosstalkamerica.com for 
 streaming audio of this show about the Fair Tax. You can call in natio
 nally to 1-800-733-9829\nYou can also check to see if the program is o
 n the radio in your area at the web site www.crosstalkamerica.com\n\nB
 e sure to use this great opportunity to hear the latest news direct fr
 om the top. Also invite guests and friends to introduce them to the Fa
 ir Tax.\nIt is important to tune in and for all of us to connect to th
 e streaming audio at the link listed. Your action will indicate high i
 nterest in the Fair Tax program. Let’s have a big turnout of listene
 rs and it could lead to bigger things. (Please see the blog about dona
 ting a few minutes each week at:\nhttp://fairtaxnation.ning.com/profil
 es/blogs/will-you-donate-a-few-minutes)\n\nThis announcement is a spec
 ial service arranged by FairTax Nation and FairTax.org\nCome to the si
 te daily and look for these announcements.\n\nFor more information vis
 it http://www.fairtaxnation.com/events/radio-interview-with-ken-6
DTSTART;TZID=America/Cancun:20090323T140000
DTEND;TZID=America/Cancun:20090323T143000
CATEGORIES:radio, "interview."
LOCATION:National event
WEBSITE:http://www.crosstalkamerica.com
URL:http://www.crosstalkamerica.com
CONTACT:1-800-733-9829 for show call in
ORGANIZER:C.Jason McKinley-National Media Manager, FairTax.org
ATTACH;FMTTYPE="image/jpeg":http://storage.ning.com/topology/rest/1.0/
 file/get/1080577667?profile=original
ATTENDEE;ROLE=REQ-PARTICIPANT;PARTSTAT=ACCEPTED;RSVP=TRUE;CN="Fla Vol"
 :http://www.fairtaxnation.com/profile/StewRusby
END:VEVENT
END:VCALENDAR
