BEGIN:VCALENDAR
PRODID:NingEventWidget-v1
VERSION:2.0
METHOD:PUBLISH
BEGIN:VTIMEZONE
TZID:America/Cancun
X-LIC-LOCATION:America/Cancun
BEGIN:DAYLIGHT
TZOFFSETFROM:-0600
TZOFFSETTO:-0500
TZNAME:CDT
DTSTART:19700405T020000
RRULE:FREQ=YEARLY;BYMONTH=4;BYDAY=1SU
END:DAYLIGHT
BEGIN:STANDARD
TZOFFSETFROM:-0500
TZOFFSETTO:-0600
TZNAME:CST
DTSTART:19701025T020000
RRULE:FREQ=YEARLY;BYMONTH=10;BYDAY=-1SU
END:STANDARD
END:VTIMEZONE
BEGIN:VEVENT
UID:2636007:Event:38958
DTSTAMP:20260422T043523Z
SUMMARY:Radio, Mike Frederick, WYDE 101.1fm
DESCRIPTION:Who: Lee Davis, WYDE 101.1fm Talk Show\n\nSpecial Guest: M
 ike Frederick, Alabama FairTax State Director\n\nWhat: FairTax Questio
 n and Answer, They will be promoting the upcoming FairTax Booth at the
  Shelby Co. Tea Party where FairTax volunteers will be participating o
 n April 15th. If you can help contact alfairtax@gmail.com\n\nhttp://ww
 w.fairtaxnation.com/group/shelbycountyalfairtaxgroup/forum/topics/fair
 tax-booth-shelby-co-tea\n\nListen locally or on the web but requires y
 ou to register!\n\nCentral Standard Time\n\nFor more information visit
  http://www.fairtaxnation.com/events/radio-mike-frederick-wyde
DTSTART;TZID=America/Cancun:20090406T163000
DTEND;TZID=America/Cancun:20090406T200000
CATEGORIES:promotion
LOCATION:Radio
WEBSITE:http://www.101wyde.com/pages/3984494.php
URL:http://www.101wyde.com/pages/3984494.php
CONTACT:205.941.1011, 1.866.551.9933
ORGANIZER;CN="alfairtax-Kelley Frederick":http://www.fairtaxnation.com
 /profile/alfairtax
ATTACH;FMTTYPE="image/jpeg":http://storage.ning.com/topology/rest/1.0/
 file/get/1080581769?profile=original
ATTENDEE;ROLE=REQ-PARTICIPANT;PARTSTAT=ACCEPTED;RSVP=TRUE;CN="alfairta
 x-Kelley Frederick":http://www.fairtaxnation.com/profile/alfairtax
END:VEVENT
END:VCALENDAR
