BEGIN:VCALENDAR
PRODID:NingEventWidget-v1
VERSION:2.0
METHOD:PUBLISH
BEGIN:VTIMEZONE
TZID:America/Cancun
X-LIC-LOCATION:America/Cancun
BEGIN:DAYLIGHT
TZOFFSETFROM:-0600
TZOFFSETTO:-0500
TZNAME:CDT
DTSTART:19700405T020000
RRULE:FREQ=YEARLY;BYMONTH=4;BYDAY=1SU
END:DAYLIGHT
BEGIN:STANDARD
TZOFFSETFROM:-0500
TZOFFSETTO:-0600
TZNAME:CST
DTSTART:19701025T020000
RRULE:FREQ=YEARLY;BYMONTH=10;BYDAY=-1SU
END:STANDARD
END:VTIMEZONE
BEGIN:VEVENT
UID:2636007:Event:62593
DTSTAMP:20260421T155150Z
SUMMARY:Radio, Rick n Bubba meet The FairTax with Mike Frederick
DESCRIPTION:Syndicated Radio Talk Show Hosts\n\nPhone Calls: 1-866-WE-
 BE-BIG (1-866-932-3244)\n\nEmail:\nRick: rick@rickandbubba.com\nBill: 
 bubba@rickandbubba.com\n\nFacebook, Twitter or listen online.\n\nWatch
  on the In Studio Webcam. CST 8:00am\n\nListen locally in Birmingham, 
 AL 104.7fm WZZK CST 8:00am\nVisit website to see where and when your l
 ocal listening broadcasts the show in your city: http://www.rickandbub
 ba.com/\n\nStates of syndication: AK, AL, AR, FL, GA, IL, IN, KY, ME, 
 MO, MS, SC, TN, VA and WV.\n\nMike Frederick, National FairTax Spokesp
 erson and Alabama FairTax State Director, who has spoke on-air and giv
 en over 500 speeches for FairTax.\n\nFor more information visit http:/
 /www.fairtaxnation.com/events/radio-rick-n-bubba-meet-the
DTSTART;TZID=America/Cancun:20090611T080000
DTEND;TZID=America/Cancun:20090611T100000
CATEGORIES:radio, interview
LOCATION:In Studio, Birmingham, Alabama
WEBSITE:http://www.rickandbubba.com/
URL:http://www.rickandbubba.com/
CONTACT:
ORGANIZER;CN="alfairtax-Kelley Frederick":http://www.fairtaxnation.com
 /profile/alfairtax
ATTACH;FMTTYPE="image/jpeg":http://storage.ning.com/topology/rest/1.0/
 file/get/1080584685?profile=original
ATTENDEE;ROLE=REQ-PARTICIPANT;PARTSTAT=ACCEPTED;RSVP=TRUE;CN="Leslie K
 irk":http://www.fairtaxnation.com/profile/LeslieKirk
ATTENDEE;ROLE=REQ-PARTICIPANT;PARTSTAT=ACCEPTED;RSVP=TRUE;CN=micheleki
 ng:http://www.fairtaxnation.com/profile/micheleking
ATTENDEE;ROLE=REQ-PARTICIPANT;PARTSTAT=ACCEPTED;RSVP=TRUE;CN="alfairta
 x-Kelley Frederick":http://www.fairtaxnation.com/profile/alfairtax
END:VEVENT
END:VCALENDAR
