BEGIN:VCALENDAR
PRODID:NingEventWidget-v1
VERSION:2.0
METHOD:PUBLISH
BEGIN:VTIMEZONE
TZID:America/Cancun
X-LIC-LOCATION:America/Cancun
BEGIN:DAYLIGHT
TZOFFSETFROM:-0600
TZOFFSETTO:-0500
TZNAME:CDT
DTSTART:19700405T020000
RRULE:FREQ=YEARLY;BYMONTH=4;BYDAY=1SU
END:DAYLIGHT
BEGIN:STANDARD
TZOFFSETFROM:-0500
TZOFFSETTO:-0600
TZNAME:CST
DTSTART:19701025T020000
RRULE:FREQ=YEARLY;BYMONTH=10;BYDAY=-1SU
END:STANDARD
END:VTIMEZONE
BEGIN:VEVENT
UID:2636007:Event:47717
DTSTAMP:20260421T062916Z
SUMMARY:Radio show
DESCRIPTION:This weeks guest is Missouri State Congressman Ed Emery. C
 ongressman Emory authored the Missouri State Fair Tax Bill that just w
 as passed in the Missouri State House and is now in the State Senate. 
 This may very well be the first ever Fair Tax law in this country. We 
 will be discussing the bill and ways for activists to bring the same b
 ill to their states!\n\nFor more information visit http://www.fairtaxn
 ation.com/events/radio-show-1
DTSTART;TZID=America/Cancun:20090423T180000
DTEND;TZID=America/Cancun:20090423T190000
CATEGORIES:radio, show
LOCATION:www.blogtalkradio.com/luvmyfreedom
WEBSITE:
URL:
CONTACT:646-727-1655
ORGANIZER:Marc Bohemier and Mickey Lattimore
ATTACH;FMTTYPE="image/jpeg":http://storage.ning.com/topology/rest/1.0/
 file/get/1080582896?profile=original
ATTENDEE;ROLE=REQ-PARTICIPANT;PARTSTAT=ACCEPTED;RSVP=TRUE;CN="Marc Boh
 emier":http://www.fairtaxnation.com/profile/MarcBohemier
END:VEVENT
END:VCALENDAR
