BEGIN:VCALENDAR
PRODID:NingEventWidget-v1
VERSION:2.0
METHOD:PUBLISH
BEGIN:VTIMEZONE
TZID:America/Cancun
X-LIC-LOCATION:America/Cancun
BEGIN:DAYLIGHT
TZOFFSETFROM:-0600
TZOFFSETTO:-0500
TZNAME:CDT
DTSTART:19700405T020000
RRULE:FREQ=YEARLY;BYMONTH=4;BYDAY=1SU
END:DAYLIGHT
BEGIN:STANDARD
TZOFFSETFROM:-0500
TZOFFSETTO:-0600
TZNAME:CST
DTSTART:19701025T020000
RRULE:FREQ=YEARLY;BYMONTH=10;BYDAY=-1SU
END:STANDARD
END:VTIMEZONE
BEGIN:VEVENT
UID:2636007:Event:96573
DTSTAMP:20260421T063545Z
SUMMARY:Radio Show
DESCRIPTION:-Antoinette Backdahl March 14 at 2:25pm\nhttp://www.blogta
 lkradio.com/mntpp/2010/03/15/toni-no-bologny-show-presents-discussion-
 on-fair-tax-with-marc-bohemier\nToni No Bologny Show presents Discussi
 on on Fair Tax with Marc Bohemier 3/14/2010 - Minnesota Tea Pa\nwww.bl
 ogtalkradio.com\nJoining us tonight is Marc Bohemier from South Caroli
 na. Marc is a Blog Talk Radio host and a Fairtax Activist in the Myrtl
 e Beach area. http//scfairtax.org Mar 14 2010\n\nFor more information 
 visit http://www.fairtaxnation.com/events/radio-show-2
DTSTART;TZID=America/Cancun:20100314T210000
DTEND;TZID=America/Cancun:20100314T220000
CATEGORIES:radio, show
LOCATION:www.blogtalkradio.com/mntpp
WEBSITE:
URL:
CONTACT:646-727-1314
ORGANIZER;CN="Marc Bohemier":http://www.fairtaxnation.com/profile/Marc
 Bohemier
ATTACH;FMTTYPE="image/jpeg":
ATTENDEE;ROLE=REQ-PARTICIPANT;PARTSTAT=ACCEPTED;RSVP=TRUE;CN="Marc Boh
 emier":http://www.fairtaxnation.com/profile/MarcBohemier
END:VEVENT
END:VCALENDAR
