BEGIN:VCALENDAR
PRODID:NingEventWidget-v1
VERSION:2.0
METHOD:PUBLISH
BEGIN:VTIMEZONE
TZID:America/Cancun
X-LIC-LOCATION:America/Cancun
BEGIN:DAYLIGHT
TZOFFSETFROM:-0600
TZOFFSETTO:-0500
TZNAME:CDT
DTSTART:19700405T020000
RRULE:FREQ=YEARLY;BYMONTH=4;BYDAY=1SU
END:DAYLIGHT
BEGIN:STANDARD
TZOFFSETFROM:-0500
TZOFFSETTO:-0600
TZNAME:CST
DTSTART:19701025T020000
RRULE:FREQ=YEARLY;BYMONTH=10;BYDAY=-1SU
END:STANDARD
END:VTIMEZONE
BEGIN:VEVENT
UID:2636007:Event:134231
DTSTAMP:20260425T141704Z
SUMMARY:Radio Talk Show Discussion with Congressman Jack Kingston (Geo
 rgia), a member of the House Appropriations Committee which directs fe
 deral spending.
DESCRIPTION:Have an opinion on Federal Spending—NOW is the time to b
 e heard: Thursday March 31-9:30pm EST on Sons Of Liberty Radio (SonsOf
 LibertyRiders.com) Special Guest: Congressman Jack Kingston (Georgia) 
 is a member of the House Appropriations Committee which directs federa
 l spending. You can participate online or by phone. \n\nFor more info
 rmation visit http://www.fairtaxnation.com/events/radio-talk-show-disc
 ussion
DTSTART;TZID=America/Cancun:20110331T213000
DTEND;TZID=America/Cancun:20110331T223000
CATEGORIES:radio, talk, show
LOCATION:Sons of Liberty Blog Talk Radio
WEBSITE:http://SonsOfLibertyRiders.com
URL:http://SonsOfLibertyRiders.com
CONTACT:(646) 478-3287
ORGANIZER;CN="Mike McLean":http://www.fairtaxnation.com/profile/MikeMc
 Lean
ATTACH;FMTTYPE="image/jpeg":http://storage.ning.com/topology/rest/1.0/
 file/get/1080604592?profile=original
ATTENDEE;ROLE=REQ-PARTICIPANT;PARTSTAT=ACCEPTED;RSVP=TRUE;CN=Dan:http:
 //www.fairtaxnation.com/profile/DME
ATTENDEE;ROLE=REQ-PARTICIPANT;PARTSTAT=ACCEPTED;RSVP=TRUE;CN="Mike McL
 ean":http://www.fairtaxnation.com/profile/MikeMcLean
END:VEVENT
END:VCALENDAR
