BEGIN:VCALENDAR
PRODID:NingEventWidget-v1
VERSION:2.0
METHOD:PUBLISH
BEGIN:VTIMEZONE
TZID:America/Cancun
X-LIC-LOCATION:America/Cancun
BEGIN:DAYLIGHT
TZOFFSETFROM:-0600
TZOFFSETTO:-0500
TZNAME:CDT
DTSTART:19700405T020000
RRULE:FREQ=YEARLY;BYMONTH=4;BYDAY=1SU
END:DAYLIGHT
BEGIN:STANDARD
TZOFFSETFROM:-0500
TZOFFSETTO:-0600
TZNAME:CST
DTSTART:19701025T020000
RRULE:FREQ=YEARLY;BYMONTH=10;BYDAY=-1SU
END:STANDARD
END:VTIMEZONE
BEGIN:VEVENT
UID:2636007:Event:99651
DTSTAMP:20260424T094258Z
SUMMARY:Radio-101.1fm WYDE, Birmingham, Alabama
DESCRIPTION:Mike Frederick, National Spokesperson for FairTax will be 
 guest on 101.1fm WYDE, Birmingham, AL-The Lee Davis Show. LIVE Interne
 t Streaming at http://www.101wyde.com/\nTime: 4:30-5:30pm CST. Call In
  941-1011 or toll free outside of Birmingham at 1-866-551-9933.\n\nFor
  more information visit http://www.fairtaxnation.com/events/radio1011f
 m-wyde-birmingham-1
DTSTART;TZID=America/Cancun:20100422T163000
DTEND;TZID=America/Cancun:20100422T173000
CATEGORIES:radio
LOCATION:Birmingham, Alabama
WEBSITE:http://www.101wyde.com/
URL:http://www.101wyde.com/
CONTACT:1-866-551-9933.
ORGANIZER;CN="alfairtax-Kelley Frederick":http://www.fairtaxnation.com
 /profile/alfairtax
ATTACH;FMTTYPE="image/jpeg":http://storage.ning.com/topology/rest/1.0/
 file/get/1080597524?profile=original
ATTENDEE;ROLE=REQ-PARTICIPANT;PARTSTAT=ACCEPTED;RSVP=TRUE;CN="alfairta
 x-Kelley Frederick":http://www.fairtaxnation.com/profile/alfairtax
END:VEVENT
END:VCALENDAR
