BEGIN:VCALENDAR
PRODID:NingEventWidget-v1
VERSION:2.0
METHOD:PUBLISH
BEGIN:VTIMEZONE
TZID:America/Cancun
X-LIC-LOCATION:America/Cancun
BEGIN:DAYLIGHT
TZOFFSETFROM:-0600
TZOFFSETTO:-0500
TZNAME:CDT
DTSTART:19700405T020000
RRULE:FREQ=YEARLY;BYMONTH=4;BYDAY=1SU
END:DAYLIGHT
BEGIN:STANDARD
TZOFFSETFROM:-0500
TZOFFSETTO:-0600
TZNAME:CST
DTSTART:19701025T020000
RRULE:FREQ=YEARLY;BYMONTH=10;BYDAY=-1SU
END:STANDARD
END:VTIMEZONE
BEGIN:VEVENT
UID:2636007:Event:66159
DTSTAMP:20260422T015128Z
SUMMARY:Restoring America Series: Money & Freedom - Unraveling the Mys
 tery of Banking
DESCRIPTION:http://www.LibertyWisconsin.com/RAS\n\nHost: Chippewa Vall
 ey Campaign for Liberty\nSpeaker: Ken Van Doren\nTopic: Money and Free
 dom - Unraveling the Mystery of Banking.\nAdmission: FREE, donations a
 ccepted for facility costs\nDate: July 7th 2009 @ 6:30pm\nLength: 1.5 
 Hours\nPlace: Eau Claire River Room @ RCU Corporate Center, 200 Riverf
 ront Terrace, Eau Claire, WI 54703\n\nOverview:\n1. What is money?\n2.
  Our REAL financial situation.\n3. Fractional Reserve Banking explaine
 d.\n4. What caused the economic meltdown? Booms and busts explained.\n
 5. Common sense financial regulation.\n6. The importance of HR1207, Au
 dit the FED bill.\n7. Is Financial life possible without the Federal R
 Eserve?.\n8. HOPE for our future....\n\nFor more information visit htt
 p://www.fairtaxnation.com/events/restoring-america-series-money
DTSTART;TZID=America/Cancun:20090707T183000
DTEND;TZID=America/Cancun:20090707T200000
CATEGORIES:educational, seminar
LOCATION:Eau Claire River Room @ RCU Corporate Center
WEBSITE:http://maps.google.com/maps?q=RCU,+200+Riverfront+Terrace,+Eau
 +Claire,+WI+54703&oe=utf-8&client=firefox-a&ie=UTF8&hl=en&ll=44.814191
 ,-91.501329&spn=0.010853,0.019312&t=h&z=16&iwloc=B
URL:http://maps.google.com/maps?q=RCU,+200+Riverfront+Terrace,+Eau+Cla
 ire,+WI+54703&oe=utf-8&client=firefox-a&ie=UTF8&hl=en&ll=44.814191,-91
 .501329&spn=0.010853,0.019312&t=h&z=16&iwloc=B
CONTACT:715-797-3048
ORGANIZER:Chippewa Valley Campaign for Liberty
ATTACH;FMTTYPE="image/jpeg":http://storage.ning.com/topology/rest/1.0/
 file/get/1080586813?profile=original
ATTENDEE;ROLE=REQ-PARTICIPANT;PARTSTAT=ACCEPTED;RSVP=TRUE;CN="Todd Wel
 ch":http://www.fairtaxnation.com/profile/ToddWelch
END:VEVENT
END:VCALENDAR
