BEGIN:VCALENDAR
PRODID:NingEventWidget-v1
VERSION:2.0
METHOD:PUBLISH
BEGIN:VTIMEZONE
TZID:America/Cancun
X-LIC-LOCATION:America/Cancun
BEGIN:DAYLIGHT
TZOFFSETFROM:-0600
TZOFFSETTO:-0500
TZNAME:CDT
DTSTART:19700405T020000
RRULE:FREQ=YEARLY;BYMONTH=4;BYDAY=1SU
END:DAYLIGHT
BEGIN:STANDARD
TZOFFSETFROM:-0500
TZOFFSETTO:-0600
TZNAME:CST
DTSTART:19701025T020000
RRULE:FREQ=YEARLY;BYMONTH=10;BYDAY=-1SU
END:STANDARD
END:VTIMEZONE
BEGIN:VEVENT
UID:2636007:Event:162089
DTSTAMP:20260424T094241Z
SUMMARY:Richmon Gun Show Booth
DESCRIPTION:We are working a booth for two days at the Richmond gun sh
 ow. Please come by and show your support. We will have hand outs, yard
  signs, bumper stickers, etc.\n\nFor more information visit http://www
 .fairtaxnation.com/events/richmon-gun-show-booth
DTSTART;TZID=America/Cancun:20120204T080000
DTEND;TZID=America/Cancun:20120205T170000
CATEGORIES:booth
LOCATION:Richmond Raceway
WEBSITE:
URL:
CONTACT:757-434-1405
ORGANIZER:Paul Burgner
ATTACH;FMTTYPE="image/jpeg":
ATTENDEE;ROLE=REQ-PARTICIPANT;PARTSTAT=ACCEPTED;RSVP=TRUE;CN="janet gu
 rwell":http://www.fairtaxnation.com/profile/janetgurwell
END:VEVENT
END:VCALENDAR
