BEGIN:VCALENDAR
PRODID:NingEventWidget-v1
VERSION:2.0
METHOD:PUBLISH
BEGIN:VTIMEZONE
TZID:America/Cancun
X-LIC-LOCATION:America/Cancun
BEGIN:DAYLIGHT
TZOFFSETFROM:-0600
TZOFFSETTO:-0500
TZNAME:CDT
DTSTART:19700405T020000
RRULE:FREQ=YEARLY;BYMONTH=4;BYDAY=1SU
END:DAYLIGHT
BEGIN:STANDARD
TZOFFSETFROM:-0500
TZOFFSETTO:-0600
TZNAME:CST
DTSTART:19701025T020000
RRULE:FREQ=YEARLY;BYMONTH=10;BYDAY=-1SU
END:STANDARD
END:VTIMEZONE
BEGIN:VEVENT
UID:2636007:Event:41646
DTSTAMP:20260421T101637Z
SUMMARY:Save the Nation Rally - April 15 - JCCC - 6:30 PM
DESCRIPTION:Please join us at our Victim's Day (April 15th) Save the N
 ation Rally at Johnson County Community College, Yardley Hall at 6:30 
 PM. JCCC is at the corner of College and Quivira.\n\nWe will be showin
 g the short version (30 minutes) of the I.O.U.S.A. movie, which descri
 bes the the plight of our country, and then we will discuss how the Fa
 irTax solves our financial problems.\n\nWe have 3 special guest speake
 rs as well : Dr. Arthur Hall, Congressman Todd Tiahrt, and Chief of St
 aff Todd Novascone (for Congressman Jerry Moran).\n\nPlease see our fl
 yer at : http://www.fairtaxkc.org\n\nSee you there !\nRay Harris\n\nFo
 r more information visit http://www.fairtaxnation.com/events/save-the-
 nation-rally-april
DTSTART;TZID=America/Cancun:20090415T183000
DTEND;TZID=America/Cancun:20090415T210000
CATEGORIES:rally
LOCATION:Johnson County Community College
WEBSITE:http://www.fairtaxkc.org
URL:http://www.fairtaxkc.org
CONTACT:913-439-0757
ORGANIZER:Earl Long
ATTACH;FMTTYPE="image/jpeg":http://storage.ning.com/topology/rest/1.0/
 file/get/1080579773?profile=original
ATTENDEE;ROLE=REQ-PARTICIPANT;PARTSTAT=ACCEPTED;RSVP=TRUE;CN="Ray Harr
 is":http://www.fairtaxnation.com/profile/RayHarris
END:VEVENT
END:VCALENDAR
