BEGIN:VCALENDAR
PRODID:NingEventWidget-v1
VERSION:2.0
METHOD:PUBLISH
BEGIN:VTIMEZONE
TZID:America/Cancun
X-LIC-LOCATION:America/Cancun
BEGIN:DAYLIGHT
TZOFFSETFROM:-0600
TZOFFSETTO:-0500
TZNAME:CDT
DTSTART:19700405T020000
RRULE:FREQ=YEARLY;BYMONTH=4;BYDAY=1SU
END:DAYLIGHT
BEGIN:STANDARD
TZOFFSETFROM:-0500
TZOFFSETTO:-0600
TZNAME:CST
DTSTART:19701025T020000
RRULE:FREQ=YEARLY;BYMONTH=10;BYDAY=-1SU
END:STANDARD
END:VTIMEZONE
BEGIN:VEVENT
UID:2636007:Event:135403
DTSTAMP:20260425T083131Z
SUMMARY:Sons of Liberty for FairTax Radio Guest Rob Woodall April 13th
  - 8pm EST!
DESCRIPTION:Please forward to all interested groups!\n \nWe are pleas
 ed to have with us this week Congressman Rob Woodall (R) GA. as our Gu
 est on the FairTax Radio show Wednesday evening April 13th, at 8 pm es
 t.\n \nThis will be streamed live on www.sonsoflibertyriders.com, or 
 at http://www.blogtalkradio.com/. You can call in at 646-478-3287 to l
 isten or for questions to Rob.\n \nHere is a little background about 
 Rob:\nWashington, DC—On Wednesday, January 5, 2011, Congressman Rob
  Woodall (GA-07) introduced H.R. 25, the FairTax.  The FairTax legis
 lation eliminates the current income tax paradigm and replaces it with
  a system of taxation based on consumption.  The bill was introduced 
 on Wednesday with 47 original co-sponsors—the most original co-spon
 sors the bill has ever had for its initial introduction.\n \n“I com
 mitted to the Seventh District of Georgia that my efforts in Congress 
 would focus on reclaiming freedom for theAmerican people.  It is for 
 that reason that I am proud to make the FairTax—the only bill that r
 estores transparency and simplicity to our tax code—my very first ac
 tion in Congress.  I have said since its inception that the FairTax i
 s not a tax bill; it is a freedom bill,” Woodall said.\n \nWoodall,
  who was sworn-in to Congress earlier in the day, played an integral r
 ole in crafting the original text of the FairTax as former Congressma
 n John Linder's Chief of Staff when the bill was originally introduced
  in 1999.\n \n \nPlease pass this on to all you know so we can show 
 Congressman Woodall our commitment to FairTax!\n \n \n\nFor more inf
 ormation visit http://www.fairtaxnation.com/events/sons-of-liberty-for
 -fairtax
DTSTART;TZID=America/Cancun:20110413T200000
DTEND;TZID=America/Cancun:20110413T210000
CATEGORIES:fairtax, talk, radio, show, on, "sonsoflibertyriders.com"
LOCATION:Sonsoflibertyriders.com
WEBSITE:http://www.sonsoflibertyriders.com
URL:http://www.sonsoflibertyriders.com
CONTACT:
ORGANIZER;CN="Mike McLean":http://www.fairtaxnation.com/profile/MikeMc
 Lean
ATTACH;FMTTYPE="image/jpeg":http://storage.ning.com/topology/rest/1.0/
 file/get/1080604700?profile=original
ATTENDEE;ROLE=REQ-PARTICIPANT;PARTSTAT=ACCEPTED;RSVP=TRUE;CN="Mike McL
 ean":http://www.fairtaxnation.com/profile/MikeMcLean
END:VEVENT
END:VCALENDAR
