BEGIN:VCALENDAR
PRODID:NingEventWidget-v1
VERSION:2.0
METHOD:PUBLISH
BEGIN:VTIMEZONE
TZID:America/Cancun
X-LIC-LOCATION:America/Cancun
BEGIN:DAYLIGHT
TZOFFSETFROM:-0600
TZOFFSETTO:-0500
TZNAME:CDT
DTSTART:19700405T020000
RRULE:FREQ=YEARLY;BYMONTH=4;BYDAY=1SU
END:DAYLIGHT
BEGIN:STANDARD
TZOFFSETFROM:-0500
TZOFFSETTO:-0600
TZNAME:CST
DTSTART:19701025T020000
RRULE:FREQ=YEARLY;BYMONTH=10;BYDAY=-1SU
END:STANDARD
END:VTIMEZONE
BEGIN:VEVENT
UID:2636007:Event:132310
DTSTAMP:20260425T231117Z
SUMMARY:South Montgomery County Liberty Group Meeting.
DESCRIPTION:Comment by Rodger L Gamblin/Kathleen J. Burch\nI'm giving 
 a talk about the FairTax on Monday, March 14 at the South Montgomery C
 ounty Liberty Group meeting.  The meeting starts at 7:30 and it is he
 ld at the Washington Heights Baptist Church, about 1/4 mile south of R
 ahn Road, on Far Hills. \nKate\n\nFor more information visit http://w
 ww.fairtaxnation.com/events/south-montgomery-county
DTSTART;TZID=America/Cancun:20110314T193000
DTEND;TZID=America/Cancun:20110314T210000
CATEGORIES:liberty, group, meeting
LOCATION:Washington Heights Baptist Church
WEBSITE:
URL:
CONTACT:
ORGANIZER:Eric Weber
ATTACH;FMTTYPE="image/jpeg":http://storage.ning.com/topology/rest/1.0/
 file/get/1080604194?profile=original
ATTENDEE;ROLE=REQ-PARTICIPANT;PARTSTAT=ACCEPTED;RSVP=TRUE;CN="Wayne Bu
 ckmiller Jr":http://www.fairtaxnation.com/profile/WayneBuckmillerJr
ATTENDEE;ROLE=REQ-PARTICIPANT;PARTSTAT=ACCEPTED;RSVP=TRUE;CN=Billie:ht
 tp://www.fairtaxnation.com/profile/Billie
ATTENDEE;ROLE=REQ-PARTICIPANT;PARTSTAT=ACCEPTED;RSVP=TRUE;CN="Phil Cla
 ypool":http://www.fairtaxnation.com/profile/Phil
END:VEVENT
END:VCALENDAR
