BEGIN:VCALENDAR
PRODID:NingEventWidget-v1
VERSION:2.0
METHOD:PUBLISH
BEGIN:VTIMEZONE
TZID:America/Cancun
X-LIC-LOCATION:America/Cancun
BEGIN:DAYLIGHT
TZOFFSETFROM:-0600
TZOFFSETTO:-0500
TZNAME:CDT
DTSTART:19700405T020000
RRULE:FREQ=YEARLY;BYMONTH=4;BYDAY=1SU
END:DAYLIGHT
BEGIN:STANDARD
TZOFFSETFROM:-0500
TZOFFSETTO:-0600
TZNAME:CST
DTSTART:19701025T020000
RRULE:FREQ=YEARLY;BYMONTH=10;BYDAY=-1SU
END:STANDARD
END:VTIMEZONE
BEGIN:VEVENT
UID:2636007:Event:76729
DTSTAMP:20260424T041152Z
SUMMARY:Springfield OH DC Bus trip
DESCRIPTION:b>We're only as effective as our membership is active\".\n
 \nThe Liberty Group in Springfield have chartered a bus to go to DC. T
 he bus will leave Springfield at 10 pm on FRI the 11th of September an
 d leave DC at 6 pm Sat the 12th after the march. This means we sleep o
 n the bus en route. We should get back in Springfield at 1-2 am Sun mo
 rn. Please Let me know if you are interested. $ 81 (includes all day t
 rain pass in DC)\nPS I WILL NEED HELP PASSING OUT FAIRTAX LITERATURE L
 ET ME KNOW IF YOU CAN HELP.\n\nFor more information visit http://www.f
 airtaxnation.com/events/springfield-oh-dc-bus-trip
DTSTART;TZID=America/Cancun:20090911T220000
DTEND;TZID=America/Cancun:20090913T010000
CATEGORIES:bus, to, dc
LOCATION:Springfield, OH
WEBSITE:
URL:
CONTACT:937-298-5092
ORGANIZER;CN="Barbara Wilson":http://www.fairtaxnation.com/profile/Bar
 bara
ATTACH;FMTTYPE="image/jpeg":
ATTENDEE;ROLE=REQ-PARTICIPANT;PARTSTAT=ACCEPTED;RSVP=TRUE;CN="Barbara 
 Wilson":http://www.fairtaxnation.com/profile/Barbara
END:VEVENT
END:VCALENDAR
