BEGIN:VCALENDAR
PRODID:NingEventWidget-v1
VERSION:2.0
METHOD:PUBLISH
BEGIN:VTIMEZONE
TZID:America/Cancun
X-LIC-LOCATION:America/Cancun
BEGIN:DAYLIGHT
TZOFFSETFROM:-0600
TZOFFSETTO:-0500
TZNAME:CDT
DTSTART:19700405T020000
RRULE:FREQ=YEARLY;BYMONTH=4;BYDAY=1SU
END:DAYLIGHT
BEGIN:STANDARD
TZOFFSETFROM:-0500
TZOFFSETTO:-0600
TZNAME:CST
DTSTART:19701025T020000
RRULE:FREQ=YEARLY;BYMONTH=10;BYDAY=-1SU
END:STANDARD
END:VTIMEZONE
BEGIN:VEVENT
UID:2636007:Event:66193
DTSTAMP:20260422T092631Z
SUMMARY:Springfield OH July 4 Tea Party
DESCRIPTION:Express your displeasure with government spending!\n\nFor 
 more information visit http://www.fairtaxnation.com/events/springfield
 -oh-july-4-tea
DTSTART;TZID=America/Cancun:20090704T110000
DTEND;TZID=America/Cancun:20090704T130000
CATEGORIES:tea, party
LOCATION:City Hall Plaza
WEBSITE:
URL:
CONTACT:
ORGANIZER:Springfield Tea Party
ATTACH;FMTTYPE="image/jpeg":
ATTENDEE;ROLE=REQ-PARTICIPANT;PARTSTAT=ACCEPTED;RSVP=TRUE;CN="Nancy L.
  Gatchel":http://www.fairtaxnation.com/profile/NancyLGatchel
END:VEVENT
END:VCALENDAR
