BEGIN:VCALENDAR
PRODID:NingEventWidget-v1
VERSION:2.0
METHOD:PUBLISH
BEGIN:VTIMEZONE
TZID:America/Cancun
X-LIC-LOCATION:America/Cancun
BEGIN:DAYLIGHT
TZOFFSETFROM:-0600
TZOFFSETTO:-0500
TZNAME:CDT
DTSTART:19700405T020000
RRULE:FREQ=YEARLY;BYMONTH=4;BYDAY=1SU
END:DAYLIGHT
BEGIN:STANDARD
TZOFFSETFROM:-0500
TZOFFSETTO:-0600
TZNAME:CST
DTSTART:19701025T020000
RRULE:FREQ=YEARLY;BYMONTH=10;BYDAY=-1SU
END:STANDARD
END:VTIMEZONE
BEGIN:VEVENT
UID:2636007:Event:35246
DTSTAMP:20260423T064050Z
SUMMARY:St. Johns County Fair Tax monthly meeting
DESCRIPTION:Monthly meeting\n\nFor more information visit http://www.f
 airtaxnation.com/events/st-johns-county-fair-tax
DTSTART;TZID=America/Cancun:20090321T100000
DTEND;TZID=America/Cancun:20090321T113000
CATEGORIES:meeting
LOCATION:St. Augustine main library
WEBSITE:http://www.mapquest.com/maps/map.adp?formtype=address&addtohis
 tory=&address=1960%20N%20Ponce%20De%20Leon%20Blvd&city=St%20Augustine&
 state=FL&zipcode=32084%2d2620&country=US&geodiff=1
URL:http://www.mapquest.com/maps/map.adp?formtype=address&addtohistory
 =&address=1960%20N%20Ponce%20De%20Leon%20Blvd&city=St%20Augustine&stat
 e=FL&zipcode=32084%2d2620&country=US&geodiff=1
CONTACT:
ORGANIZER:Mary Daniels
ATTACH;FMTTYPE="image/jpeg":
ATTENDEE;ROLE=REQ-PARTICIPANT;PARTSTAT=ACCEPTED;RSVP=TRUE;CN="Sean Fag
 an":http://www.fairtaxnation.com/profile/Sean
END:VEVENT
END:VCALENDAR
