BEGIN:VCALENDAR
PRODID:NingEventWidget-v1
VERSION:2.0
METHOD:PUBLISH
BEGIN:VTIMEZONE
TZID:America/Cancun
X-LIC-LOCATION:America/Cancun
BEGIN:DAYLIGHT
TZOFFSETFROM:-0600
TZOFFSETTO:-0500
TZNAME:CDT
DTSTART:19700405T020000
RRULE:FREQ=YEARLY;BYMONTH=4;BYDAY=1SU
END:DAYLIGHT
BEGIN:STANDARD
TZOFFSETFROM:-0500
TZOFFSETTO:-0600
TZNAME:CST
DTSTART:19701025T020000
RRULE:FREQ=YEARLY;BYMONTH=10;BYDAY=-1SU
END:STANDARD
END:VTIMEZONE
BEGIN:VEVENT
UID:2636007:Event:77203
DTSTAMP:20260424T054620Z
SUMMARY:STORM THE HILL, Rally- IRS Building-Washington,D.C.
DESCRIPTION:STORM THE HILL Details:\nMeet Us....at the Pentagon Memori
 al at 9 am ET\nHead to the Metro at 10am\nGet off at the Federal Trian
 gle Metro Stop\nMeet up at the IRS BUILDING at 10:30 to 11:00 for a pe
 aceful\ndemonstration in front of the building.\nHEAD COUNT\nWalk towa
 rds the Capitol at 11:45am\nGather to enter the Congressional Office B
 uilding En Masse.\nGo straight to targeted congressional offices.\n\nS
 peakers: Seth Riggio, Jessica Wexler and Jonathan Krohn\n\nALL TIMES A
 RE EASTERN STANDARD TIMES.\n\nFolks can grab a bite of food from vendo
 rs along the way.\n\nDisclaimer: This event is organized by 100% grass
 roots organizers the FairTaxNation and is independent of AFFT organiza
 tion. This event is for all who do support and promote the FairTax Bil
 l HR25/S296 and seek to learn more about this issue.\n\nMAP: http://ww
 w.visitingdc.com/map/downtown-washington-dc-map.htm\nIf you can help u
 s organizer, please contact Jim Tomasik on FairTaxNation.orgSTORM THE 
 HILL.pdf\n\nFor more information visit http://www.fairtaxnation.com/ev
 ents/storm-the-hill-rally-irs
DTSTART;TZID=America/Cancun:20090911T090000
DTEND;TZID=America/Cancun:20090911T130000
CATEGORIES:national, rally
LOCATION:IRS Building
WEBSITE:
URL:
CONTACT:http://www.fairtaxnation.com/
ORGANIZER;CN="alfairtax-Kelley Frederick":http://www.fairtaxnation.com
 /profile/alfairtax
ATTACH;FMTTYPE="image/jpeg":http://storage.ning.com/topology/rest/1.0/
 file/get/1080590033?profile=original
ATTENDEE;ROLE=REQ-PARTICIPANT;PARTSTAT=ACCEPTED;RSVP=TRUE;CN="David Sh
 ipp":http://www.fairtaxnation.com/profile/DavidShipp
ATTENDEE;ROLE=REQ-PARTICIPANT;PARTSTAT=ACCEPTED;RSVP=TRUE;CN="Linda Re
 utzel":http://www.fairtaxnation.com/profile/LindaReutzel
ATTENDEE;ROLE=REQ-PARTICIPANT;PARTSTAT=ACCEPTED;RSVP=TRUE;CN="Sean Fag
 an":http://www.fairtaxnation.com/profile/Sean
ATTENDEE;ROLE=REQ-PARTICIPANT;PARTSTAT=ACCEPTED;RSVP=TRUE;CN="Chuck Ba
 iley":http://www.fairtaxnation.com/profile/ChuckBailey
ATTENDEE;ROLE=REQ-PARTICIPANT;PARTSTAT=ACCEPTED;RSVP=TRUE;CN="Jim Toma
 sik":http://www.fairtaxnation.com/profile/JimTomasik
ATTENDEE;ROLE=REQ-PARTICIPANT;PARTSTAT=ACCEPTED;RSVP=TRUE;CN="alfairta
 x-Kelley Frederick":http://www.fairtaxnation.com/profile/alfairtax
ATTENDEE;ROLE=REQ-PARTICIPANT;PARTSTAT=TENTATIVE;RSVP=TRUE;CN="Mary Ha
 rris":http://www.fairtaxnation.com/profile/MaryHarris
END:VEVENT
END:VCALENDAR
