BEGIN:VCALENDAR
PRODID:NingEventWidget-v1
VERSION:2.0
METHOD:PUBLISH
BEGIN:VTIMEZONE
TZID:America/Cancun
X-LIC-LOCATION:America/Cancun
BEGIN:DAYLIGHT
TZOFFSETFROM:-0600
TZOFFSETTO:-0500
TZNAME:CDT
DTSTART:19700405T020000
RRULE:FREQ=YEARLY;BYMONTH=4;BYDAY=1SU
END:DAYLIGHT
BEGIN:STANDARD
TZOFFSETFROM:-0500
TZOFFSETTO:-0600
TZNAME:CST
DTSTART:19701025T020000
RRULE:FREQ=YEARLY;BYMONTH=10;BYDAY=-1SU
END:STANDARD
END:VTIMEZONE
BEGIN:VEVENT
UID:2636007:Event:58601
DTSTAMP:20260421T155632Z
SUMMARY:Summerville Fairtax Group
DESCRIPTION:We will have a general dicussion on the Fairtax and answer
  any questions you might have about the Fairtax. We also have to makep
 lans for our 4th of July attivities and our presents at a Riverdogs Ga
 me.\n\nFor more information visit http://www.fairtaxnation.com/events/
 summerville-fairtax-group
DTSTART;TZID=America/Cancun:20090618T183000
DTEND;TZID=America/Cancun:20090618T200000
CATEGORIES:fairtax, meeting
LOCATION:Summerville Elementry School
WEBSITE:http://meetup.com/Summerville-Fairtax-meetup-group
URL:http://meetup.com/Summerville-Fairtax-meetup-group
CONTACT:843-873-4659
ORGANIZER;CN="John Stauffer":http://www.fairtaxnation.com/profile/John
 Stauffer
ATTACH;FMTTYPE="image/jpeg":
ATTENDEE;ROLE=REQ-PARTICIPANT;PARTSTAT=ACCEPTED;RSVP=TRUE;CN="John Sta
 uffer":http://www.fairtaxnation.com/profile/JohnStauffer
END:VEVENT
END:VCALENDAR
