BEGIN:VCALENDAR
PRODID:NingEventWidget-v1
VERSION:2.0
METHOD:PUBLISH
BEGIN:VTIMEZONE
TZID:America/Cancun
X-LIC-LOCATION:America/Cancun
BEGIN:DAYLIGHT
TZOFFSETFROM:-0600
TZOFFSETTO:-0500
TZNAME:CDT
DTSTART:19700405T020000
RRULE:FREQ=YEARLY;BYMONTH=4;BYDAY=1SU
END:DAYLIGHT
BEGIN:STANDARD
TZOFFSETFROM:-0500
TZOFFSETTO:-0600
TZNAME:CST
DTSTART:19701025T020000
RRULE:FREQ=YEARLY;BYMONTH=10;BYDAY=-1SU
END:STANDARD
END:VTIMEZONE
BEGIN:VEVENT
UID:2636007:Event:50827
DTSTAMP:20260423T082956Z
SUMMARY:Support of the MO FairTax (MO HJR 36).
DESCRIPTION:MO FairTax Advocates,\nAn historic opportunity has present
 ed itself to strike a major blow to\nthe injustice of our current inco
 me tax system. Missouri is on the\nforefront of a sea change in the wa
 y taxes are collected and WE NEED\nYOUR HELP!\nSave this date now as w
 e get more information to you: The situation\nis fluid and DEVELOPING.
 ..\nWednesday, April 29, 2009\nIf at all possible plan to spend the da
 y in Jefferson City lobbying in support of the MO FairTax (MO HJR 36).
 \nTentative Schedule:\n12:00 noon - Senate Ways & Means Committee Hear
 ing - MO State Capitol\n- Hearing Room TBA\n\nFor more information vis
 it http://www.fairtaxnation.com/events/support-of-the-mo-fairtax-mo
DTSTART;TZID=America/Cancun:20090429T000000
DTEND;TZID=America/Cancun:20090429T235900
CATEGORIES:senate, ways, "&", means, committee, hearing, -, mo, state,
  capitol
LOCATION:Missouri State Capitol
WEBSITE:
URL:
CONTACT:573.635.3801
ORGANIZER;CN="Ray Walker":http://www.fairtaxnation.com/profile/RayWalk
 er
ATTACH;FMTTYPE="image/jpeg":
ATTENDEE;ROLE=REQ-PARTICIPANT;PARTSTAT=ACCEPTED;RSVP=TRUE;CN="Ray Walk
 er":http://www.fairtaxnation.com/profile/RayWalker
END:VEVENT
END:VCALENDAR
