BEGIN:VCALENDAR
PRODID:NingEventWidget-v1
VERSION:2.0
METHOD:PUBLISH
BEGIN:VTIMEZONE
TZID:America/Cancun
X-LIC-LOCATION:America/Cancun
BEGIN:DAYLIGHT
TZOFFSETFROM:-0600
TZOFFSETTO:-0500
TZNAME:CDT
DTSTART:19700405T020000
RRULE:FREQ=YEARLY;BYMONTH=4;BYDAY=1SU
END:DAYLIGHT
BEGIN:STANDARD
TZOFFSETFROM:-0500
TZOFFSETTO:-0600
TZNAME:CST
DTSTART:19701025T020000
RRULE:FREQ=YEARLY;BYMONTH=10;BYDAY=-1SU
END:STANDARD
END:VTIMEZONE
BEGIN:VEVENT
UID:2636007:Event:39821
DTSTAMP:20260421T044121Z
SUMMARY:Tax Day TEA (Taxed Enough Already) Party
DESCRIPTION:Come to a Tax Day TEA Party in Starke, Florida. Bring your
  own signs. We may have a Christian band. We'll have tea. Let me know 
 if you want to attend a planning session.\n\nFor more information visi
 t http://www.fairtaxnation.com/events/tax-day-tea-taxed-enough
DTSTART;TZID=America/Cancun:20090415T150000
DTEND;TZID=America/Cancun:20090415T180000
CATEGORIES:tax, day, tea, party
LOCATION:Brick building across the street from Bradford High School, S
 tarke, FL
WEBSITE:
URL:
CONTACT:(352) 473-3538
ORGANIZER;CN="Deanna May":http://www.fairtaxnation.com/profile/DeannaM
 ay
ATTACH;FMTTYPE="image/jpeg":
ATTENDEE;ROLE=REQ-PARTICIPANT;PARTSTAT=ACCEPTED;RSVP=TRUE;CN="Deanna M
 ay":http://www.fairtaxnation.com/profile/DeannaMay
END:VEVENT
END:VCALENDAR
