BEGIN:VCALENDAR
PRODID:NingEventWidget-v1
VERSION:2.0
METHOD:PUBLISH
BEGIN:VTIMEZONE
TZID:America/Cancun
X-LIC-LOCATION:America/Cancun
BEGIN:DAYLIGHT
TZOFFSETFROM:-0600
TZOFFSETTO:-0500
TZNAME:CDT
DTSTART:19700405T020000
RRULE:FREQ=YEARLY;BYMONTH=4;BYDAY=1SU
END:DAYLIGHT
BEGIN:STANDARD
TZOFFSETFROM:-0500
TZOFFSETTO:-0600
TZNAME:CST
DTSTART:19701025T020000
RRULE:FREQ=YEARLY;BYMONTH=10;BYDAY=-1SU
END:STANDARD
END:VTIMEZONE
BEGIN:VEVENT
UID:2636007:Event:93409
DTSTAMP:20260422T060440Z
SUMMARY:Tax Reform Kitchen Table Meeting
DESCRIPTION:We will have our first Tax Reform KTM this Wednesday at 7 
 pm at the Grass Roots Cafe. Bring your creative thoughts about how to 
 get involved.\n\nLaura McCue, District Director for NCFairTax will be 
 there to help with questions and offer her experiences.\n\nIf you want
  to eat before the meeting, please come early as we will start promptl
 y at 7 pm.\n\nThis will be a working event. If you want to come and ea
 t good food and share ideas please let us know you will be there.\n\nF
 or more information visit http://www.fairtaxnation.com/events/tax-refo
 rm-kitchen-table
DTSTART;TZID=America/Cancun:20100217T190000
DTEND;TZID=America/Cancun:20100217T210000
CATEGORIES:meeting
LOCATION:Grass Roots Cafe
WEBSITE:http://hendersonvilleepicurean.blogspot.com/2009/12/grass-root
 s-cafe-adds-breakfast.html
URL:http://hendersonvilleepicurean.blogspot.com/2009/12/grass-roots-ca
 fe-adds-breakfast.html
CONTACT:RSVP 828-891-5024 or mikemclean@grassrootsfreedomride.com
ORGANIZER:Mike and Carol McLean
ATTACH;FMTTYPE="image/jpeg":
ATTENDEE;ROLE=REQ-PARTICIPANT;PARTSTAT=ACCEPTED;RSVP=TRUE;CN="Mike McL
 ean":http://www.fairtaxnation.com/profile/MikeMcLean
ATTENDEE;ROLE=REQ-PARTICIPANT;PARTSTAT=ACCEPTED;RSVP=TRUE;CN="Laura Mc
 Cue":http://www.fairtaxnation.com/profile/LauraMcCue
END:VEVENT
END:VCALENDAR
