BEGIN:VCALENDAR
PRODID:NingEventWidget-v1
VERSION:2.0
METHOD:PUBLISH
BEGIN:VTIMEZONE
TZID:America/Cancun
X-LIC-LOCATION:America/Cancun
BEGIN:DAYLIGHT
TZOFFSETFROM:-0600
TZOFFSETTO:-0500
TZNAME:CDT
DTSTART:19700405T020000
RRULE:FREQ=YEARLY;BYMONTH=4;BYDAY=1SU
END:DAYLIGHT
BEGIN:STANDARD
TZOFFSETFROM:-0500
TZOFFSETTO:-0600
TZNAME:CST
DTSTART:19701025T020000
RRULE:FREQ=YEARLY;BYMONTH=10;BYDAY=-1SU
END:STANDARD
END:VTIMEZONE
BEGIN:VEVENT
UID:2636007:Event:37490
DTSTAMP:20260421T064255Z
SUMMARY:TaxDay Tea Party (FAIRTAX is the SOLUTION) Kenn/Rch/Pasco
DESCRIPTION:In Richland at John Dam Plaza (G.W. Way, Knight streets)\n
 4-7pm\n\nFor more information visit http://www.fairtaxnation.com/event
 s/taxday-tea-party-fairtax-is
DTSTART;TZID=America/Cancun:20090415T160000
DTEND;TZID=America/Cancun:20090415T190000
CATEGORIES:demonstration
LOCATION:Richland
WEBSITE:
URL:
CONTACT:
ORGANIZER:A local citizen...
ATTACH;FMTTYPE="image/jpeg":
ATTENDEE;ROLE=REQ-PARTICIPANT;PARTSTAT=ACCEPTED;RSVP=TRUE;CN=Dan:http:
 //www.fairtaxnation.com/profile/DSuter
ATTENDEE;ROLE=REQ-PARTICIPANT;PARTSTAT=ACCEPTED;RSVP=TRUE;CN="Jamie Wh
 eeler WA":http://www.fairtaxnation.com/profile/Jamie
END:VEVENT
END:VCALENDAR
