BEGIN:VCALENDAR
PRODID:NingEventWidget-v1
VERSION:2.0
METHOD:PUBLISH
BEGIN:VTIMEZONE
TZID:America/Cancun
X-LIC-LOCATION:America/Cancun
BEGIN:DAYLIGHT
TZOFFSETFROM:-0600
TZOFFSETTO:-0500
TZNAME:CDT
DTSTART:19700405T020000
RRULE:FREQ=YEARLY;BYMONTH=4;BYDAY=1SU
END:DAYLIGHT
BEGIN:STANDARD
TZOFFSETFROM:-0500
TZOFFSETTO:-0600
TZNAME:CST
DTSTART:19701025T020000
RRULE:FREQ=YEARLY;BYMONTH=10;BYDAY=-1SU
END:STANDARD
END:VTIMEZONE
BEGIN:VEVENT
UID:2636007:Event:37492
DTSTAMP:20260423T192516Z
SUMMARY:TaxDay Tea Party
DESCRIPTION:Located between George Washington Way and Jadwin Avenue, n
 orth of Knight Street\n\nFor more information visit http://www.fairtax
 nation.com/events/taxday-tea-party
DTSTART;TZID=America/Cancun:20090328T180000
DTEND;TZID=America/Cancun:20090328T190000
CATEGORIES:demonstration
LOCATION:Richland  (John Dam Plaza)
WEBSITE:
URL:
CONTACT:
ORGANIZER:someone local
ATTACH;FMTTYPE="image/jpeg":
ATTENDEE;ROLE=REQ-PARTICIPANT;PARTSTAT=ACCEPTED;RSVP=TRUE;CN="Jamie Wh
 eeler WA":http://www.fairtaxnation.com/profile/Jamie
END:VEVENT
END:VCALENDAR
