BEGIN:VCALENDAR
PRODID:NingEventWidget-v1
VERSION:2.0
METHOD:PUBLISH
BEGIN:VTIMEZONE
TZID:America/Cancun
X-LIC-LOCATION:America/Cancun
BEGIN:DAYLIGHT
TZOFFSETFROM:-0600
TZOFFSETTO:-0500
TZNAME:CDT
DTSTART:19700405T020000
RRULE:FREQ=YEARLY;BYMONTH=4;BYDAY=1SU
END:DAYLIGHT
BEGIN:STANDARD
TZOFFSETFROM:-0500
TZOFFSETTO:-0600
TZNAME:CST
DTSTART:19701025T020000
RRULE:FREQ=YEARLY;BYMONTH=10;BYDAY=-1SU
END:STANDARD
END:VTIMEZONE
BEGIN:VEVENT
UID:2636007:Event:95773
DTSTAMP:20260421T083620Z
SUMMARY:The Grass Roots Cafe is hosting a \"Meet & Greet\" for 11th Di
 strict NC Congressional Candidates
DESCRIPTION:\n\n\nCandidates Dan Eichenbaum, Jeff Miller, Greg Newman,
  Kenny West, James Howard & Ed Krause have been invited to answer your
  questions about the issues that interest you the most.\n\nAt this tim
 e, Howard, Eichenbaum & West have confirmed, Newman & Miller are proba
 ble; Ed Krause has sent his regrets that he cannot attend.\n\nHere's y
 our chance to find the answers to your questions in a casual atmospher
 e. As the primary nears and schedules become more hectic, we may not h
 ave this chance again. It's also our chance to get involved in the cha
 nge we each want to see happen. If we want our candidates to represent
  us, this is the time to choose a candidate and stand up to support yo
 ur man.\n\n\n\nIf you want to attend the Sons of Liberty informational
  meeting at 1 PM at the Grass Roots Cafe, come early. this meeting wil
 l cross over with the candidates, and will explain the structure and p
 urpose of the Sons of Liberty Riders.\n\nFor more information visit ht
 tp://www.fairtaxnation.com/events/the-grass-roots-cafe-is
DTSTART;TZID=America/Cancun:20100314T140000
DTEND;TZID=America/Cancun:20100314T160000
CATEGORIES:meet, n, greet
LOCATION:The Grass Roots Cafe
WEBSITE:http://maps.google.com/maps?f=q&source=s_q&hl=en&geocode=&q=Th
 e+Grass+Roots+Cafe,+Horse+Shoe,+NC&sll=35.3335,-82.459154&sspn=0.07842
 3,0.132351&ie=UTF8&hq=The+Grass+Roots+Cafe,&hnear=Horse+Shoe,+NC&ll=35
 .344675,-82.554038&spn=0.009364,0.016544&z=16&iwloc=A
URL:http://maps.google.com/maps?f=q&source=s_q&hl=en&geocode=&q=The+Gr
 ass+Roots+Cafe,+Horse+Shoe,+NC&sll=35.3335,-82.459154&sspn=0.078423,0.
 132351&ie=UTF8&hq=The+Grass+Roots+Cafe,&hnear=Horse+Shoe,+NC&ll=35.344
 675,-82.554038&spn=0.009364,0.016544&z=16&iwloc=A
CONTACT:8288915024
ORGANIZER:Carol McLean
ATTACH;FMTTYPE="image/jpeg":http://storage.ning.com/topology/rest/1.0/
 file/get/1080595417?profile=original
ATTENDEE;ROLE=REQ-PARTICIPANT;PARTSTAT=ACCEPTED;RSVP=TRUE;CN="Kathryn 
 R. Clontz":http://www.fairtaxnation.com/profile/KathrynRClontz
ATTENDEE;ROLE=REQ-PARTICIPANT;PARTSTAT=ACCEPTED;RSVP=TRUE;CN="Mike McL
 ean":http://www.fairtaxnation.com/profile/MikeMcLean
END:VEVENT
END:VCALENDAR
