BEGIN:VCALENDAR
PRODID:NingEventWidget-v1
VERSION:2.0
METHOD:PUBLISH
BEGIN:VTIMEZONE
TZID:America/Cancun
X-LIC-LOCATION:America/Cancun
BEGIN:DAYLIGHT
TZOFFSETFROM:-0600
TZOFFSETTO:-0500
TZNAME:CDT
DTSTART:19700405T020000
RRULE:FREQ=YEARLY;BYMONTH=4;BYDAY=1SU
END:DAYLIGHT
BEGIN:STANDARD
TZOFFSETFROM:-0500
TZOFFSETTO:-0600
TZNAME:CST
DTSTART:19701025T020000
RRULE:FREQ=YEARLY;BYMONTH=10;BYDAY=-1SU
END:STANDARD
END:VTIMEZONE
BEGIN:VEVENT
UID:2636007:Event:133116
DTSTAMP:20260425T113115Z
SUMMARY:Third Annual Tax Day Event
DESCRIPTION:Special Speakers at this Tax Day Event is FL Senator Marco
  Rubio and Herman Cain (possible candidate for President in 2012 and s
 trong FairTax Advocate)\nWear your FairTax gear and bring signs.  We 
 want Senator Marco Rubio to become a Co-Sponsor of S-13\n\nFor more in
 formation visit http://www.fairtaxnation.com/events/third-annual-tax-d
 ay-event
DTSTART;TZID=America/Cancun:20110415T160000
DTEND;TZID=America/Cancun:20110415T180000
CATEGORIES:tea, party, and, fairtax, event
LOCATION:Lake Eola
WEBSITE:http://www.fairtaxpatriots.org/events.aspx?event=20110415_1
URL:http://www.fairtaxpatriots.org/events.aspx?event=20110415_1
CONTACT:
ORGANIZER:FairTax Patriots, Greater Orlando FairTax Support Group
ATTACH;FMTTYPE="image/jpeg":
ATTENDEE;ROLE=REQ-PARTICIPANT;PARTSTAT=ACCEPTED;RSVP=TRUE;CN=chiefcook
 :http://www.fairtaxnation.com/profile/chiefcook
END:VEVENT
END:VCALENDAR
