BEGIN:VCALENDAR
PRODID:NingEventWidget-v1
VERSION:2.0
METHOD:PUBLISH
BEGIN:VTIMEZONE
TZID:America/Cancun
X-LIC-LOCATION:America/Cancun
BEGIN:DAYLIGHT
TZOFFSETFROM:-0600
TZOFFSETTO:-0500
TZNAME:CDT
DTSTART:19700405T020000
RRULE:FREQ=YEARLY;BYMONTH=4;BYDAY=1SU
END:DAYLIGHT
BEGIN:STANDARD
TZOFFSETFROM:-0500
TZOFFSETTO:-0600
TZNAME:CST
DTSTART:19701025T020000
RRULE:FREQ=YEARLY;BYMONTH=10;BYDAY=-1SU
END:STANDARD
END:VTIMEZONE
BEGIN:VEVENT
UID:2636007:Event:143933
DTSTAMP:20260425T220919Z
SUMMARY:Thunderburg in Miamisburg, OH
DESCRIPTION:We will have a booth at the Miamisburg, OH Cruise-In.\nIt
  would be nice to have help passing out FairTax information.  We will
  be setting up around 2 p.m.  \nThis sounds like a really fun event 
 with lots of opportunity to educate  people about the FairTax.Please 
 let me know what time you can help: work the booth and or hand out Fai
 rTax literature\nWhen: Saturday, July 9th. Time: 4 pm to 10 pm (2 pm f
 or booth set up )Where: Downtown Miamisburg, OH  (Will have exact boo
 th location later)\n \n\nFor more information visit http://www.fairta
 xnation.com/events/thunderburg-in-miamisburg-oh
DTSTART;TZID=America/Cancun:20110709T160000
DTEND;TZID=America/Cancun:20110709T220000
CATEGORIES:cruise-in
LOCATION:Miamisburg, OH
WEBSITE:http://www.thunderburg.com/
URL:http://www.thunderburg.com/
CONTACT:Barbara Wilson 937-298-5092
ORGANIZER:Lonnie Logston
ATTACH;FMTTYPE="image/jpeg":
ATTENDEE;ROLE=REQ-PARTICIPANT;PARTSTAT=ACCEPTED;RSVP=TRUE;CN=Billie:ht
 tp://www.fairtaxnation.com/profile/Billie
END:VEVENT
END:VCALENDAR
