BEGIN:VCALENDAR
PRODID:NingEventWidget-v1
VERSION:2.0
METHOD:PUBLISH
BEGIN:VTIMEZONE
TZID:America/Cancun
X-LIC-LOCATION:America/Cancun
BEGIN:DAYLIGHT
TZOFFSETFROM:-0600
TZOFFSETTO:-0500
TZNAME:CDT
DTSTART:19700405T020000
RRULE:FREQ=YEARLY;BYMONTH=4;BYDAY=1SU
END:DAYLIGHT
BEGIN:STANDARD
TZOFFSETFROM:-0500
TZOFFSETTO:-0600
TZNAME:CST
DTSTART:19701025T020000
RRULE:FREQ=YEARLY;BYMONTH=10;BYDAY=-1SU
END:STANDARD
END:VTIMEZONE
BEGIN:VEVENT
UID:2636007:Event:185944
DTSTAMP:20260421T102120Z
SUMMARY:WA CD4 Time for a FT Candidate
DESCRIPTION:Congressional Seat is OPEN and now is the time for a FairT
 ax Candidate.  Time to meet, to strategize and to plan!\n\nCOME with 
 your input and re-energize!\n\n1620 S Union St, Kennewick, WA 99338\n\
 nFor more information visit http://www.fairtaxnation.com/events/time-f
 or-a-fairtax-candidate
DTSTART;TZID=America/Cancun:20140418T190000
DTEND;TZID=America/Cancun:20140418T203000
CATEGORIES:ogranizational
LOCATION:Kennewick UNION Branch Library
WEBSITE:
URL:
CONTACT:509-586-7124
ORGANIZER;CN="Jamie Wheeler WA":http://www.fairtaxnation.com/profile/J
 amie
ATTACH;FMTTYPE="image/jpeg":http://storage.ning.com/topology/rest/1.0/
 file/get/1080614461?profile=original
ATTENDEE;ROLE=REQ-PARTICIPANT;PARTSTAT=ACCEPTED;RSVP=TRUE;CN="Raymond 
 Clish":http://www.fairtaxnation.com/profile/RaymondClish
ATTENDEE;ROLE=REQ-PARTICIPANT;PARTSTAT=ACCEPTED;RSVP=TRUE;CN=Bonnie:ht
 tp://www.fairtaxnation.com/profile/Bonnie
ATTENDEE;ROLE=REQ-PARTICIPANT;PARTSTAT=ACCEPTED;RSVP=TRUE;CN="Jamie Wh
 eeler WA":http://www.fairtaxnation.com/profile/Jamie
END:VEVENT
END:VCALENDAR
