BEGIN:VCALENDAR
PRODID:NingEventWidget-v1
VERSION:2.0
METHOD:PUBLISH
BEGIN:VTIMEZONE
TZID:America/Cancun
X-LIC-LOCATION:America/Cancun
BEGIN:DAYLIGHT
TZOFFSETFROM:-0600
TZOFFSETTO:-0500
TZNAME:CDT
DTSTART:19700405T020000
RRULE:FREQ=YEARLY;BYMONTH=4;BYDAY=1SU
END:DAYLIGHT
BEGIN:STANDARD
TZOFFSETFROM:-0500
TZOFFSETTO:-0600
TZNAME:CST
DTSTART:19701025T020000
RRULE:FREQ=YEARLY;BYMONTH=10;BYDAY=-1SU
END:STANDARD
END:VTIMEZONE
BEGIN:VEVENT
UID:2636007:Event:17171
DTSTAMP:20260425T071615Z
SUMMARY:Town Meeting
DESCRIPTION:Sponsor: Green County Dailies\n\nFor more information visi
 t http://www.fairtaxnation.com/events/town-meeting
DTSTART;TZID=America/Cancun:20090219T190000
DTEND;TZID=America/Cancun:20090219T203000
CATEGORIES:media, outreach
LOCATION:Fairborn library
WEBSITE:http://www.xeniagazette.com/
URL:http://www.xeniagazette.com/
CONTACT:
ORGANIZER:Jon Noel
ATTACH;FMTTYPE="image/jpeg":http://storage.ning.com/topology/rest/1.0/
 file/get/1080572714?profile=original
ATTENDEE;ROLE=REQ-PARTICIPANT;PARTSTAT=ACCEPTED;RSVP=TRUE;CN=Mitch:htt
 p://www.fairtaxnation.com/profile/Mitch
ATTENDEE;ROLE=REQ-PARTICIPANT;PARTSTAT=TENTATIVE;RSVP=TRUE;CN="Frank G
 ilbert":http://www.fairtaxnation.com/profile/FrankGilbert
END:VEVENT
END:VCALENDAR
