BEGIN:VCALENDAR
PRODID:NingEventWidget-v1
VERSION:2.0
METHOD:PUBLISH
BEGIN:VTIMEZONE
TZID:America/Cancun
X-LIC-LOCATION:America/Cancun
BEGIN:DAYLIGHT
TZOFFSETFROM:-0600
TZOFFSETTO:-0500
TZNAME:CDT
DTSTART:19700405T020000
RRULE:FREQ=YEARLY;BYMONTH=4;BYDAY=1SU
END:DAYLIGHT
BEGIN:STANDARD
TZOFFSETFROM:-0500
TZOFFSETTO:-0600
TZNAME:CST
DTSTART:19701025T020000
RRULE:FREQ=YEARLY;BYMONTH=10;BYDAY=-1SU
END:STANDARD
END:VTIMEZONE
BEGIN:VEVENT
UID:2636007:Event:70393
DTSTAMP:20260424T073315Z
SUMMARY:trip to D.C.
DESCRIPTION:ATTENTION fellow Springfield, OH, Tea Party patriots. . .w
 e are locked in on our trip to Washington, D.C. on Friday, September 1
 1, 2009. I need your complete payment and a phone call or email confir
 ming your departure with us on 9-11-09. The fee is $73.00 per person. 
 I am getting bombarded with emails from all over Ohio on how they can 
 go with our group. We are almost full (56 passenger bus). So, please d
 on't wait to call me or email me. I need to track this very closely an
 d would hate leaving anyone behind. I wanted to reserve more buses, bu
 t they are all booked up. I called today (8/6/09) to check. We are als
 o looking into an all day metro pass while in D.C. for about $7.80 eac
 h. This will be on a first-come, first-served basis. So there is no co
 nfusion on how to work the pricing for each train; it can be confusing
 , trust me, you can call me at 937-325-7930. I am still investigating 
 where is the best place to be dropped off from the metro to the mall. 
 Please get with me as soon as possible to confirm your reservation as 
 we fellow patriots make our own change in American history.\n\nThank y
 ou, GOD bless you, and GOD bless America.\n\n\nJason Stevens\n\n937-32
 5-7930\n\nSpringfield Tea Party Patriots\n\nFor more information visit
  http://www.fairtaxnation.com/events/trip-to-dc
DTSTART;TZID=America/Cancun:20090911T220000
DTEND;TZID=America/Cancun:20090912T180000
CATEGORIES:march, on, washington, "d.c."
LOCATION:call me
WEBSITE:
URL:
CONTACT:937-325-7930
ORGANIZER;CN="Jason Stevens":http://www.fairtaxnation.com/profile/Jaso
 nStevens
ATTACH;FMTTYPE="image/jpeg":
ATTENDEE;ROLE=REQ-PARTICIPANT;PARTSTAT=ACCEPTED;RSVP=TRUE;CN="Barbara 
 Wilson":http://www.fairtaxnation.com/profile/Barbara
ATTENDEE;ROLE=REQ-PARTICIPANT;PARTSTAT=ACCEPTED;RSVP=TRUE;CN="Jason St
 evens":http://www.fairtaxnation.com/profile/JasonStevens
END:VEVENT
END:VCALENDAR
