BEGIN:VCALENDAR
PRODID:NingEventWidget-v1
VERSION:2.0
METHOD:PUBLISH
BEGIN:VTIMEZONE
TZID:America/Cancun
X-LIC-LOCATION:America/Cancun
BEGIN:DAYLIGHT
TZOFFSETFROM:-0600
TZOFFSETTO:-0500
TZNAME:CDT
DTSTART:19700405T020000
RRULE:FREQ=YEARLY;BYMONTH=4;BYDAY=1SU
END:DAYLIGHT
BEGIN:STANDARD
TZOFFSETFROM:-0500
TZOFFSETTO:-0600
TZNAME:CST
DTSTART:19701025T020000
RRULE:FREQ=YEARLY;BYMONTH=10;BYDAY=-1SU
END:STANDARD
END:VTIMEZONE
BEGIN:VEVENT
UID:2636007:Event:188199
DTSTAMP:20260421T035556Z
SUMMARY:Twitter Basic Training Webinar
DESCRIPTION:Twitter Basic Training Webinar - July 29, 2014\n“5 Steps
  to Promoting The FairTax®\"\nWhen: 8 pm Eastern, 7 pm Central, 6 pm
  Mountain, 5 pm Pacific\nWhy: Learn the basic uses of Twitter, how the
  social media website operates, and how to spread the FairTax message 
 to the largest audience possible.\nIn addition, learn how to reach mem
 bers of Congress and \"follow\" what they are talking about. A Q&A wil
 l follow the presentation.\nPresenter: Don Scott is a professional tra
 iner in software applications. Don and Randy Fisher will answer questi
 ons following the presentation. Randy Fischer is the social media dir
 ector of the Florida FairTax Educational Association, chairman of the 
 AFFT communications committee and serves on the new Board of Directors
 . \nJoin: Advance registration is required. Click here and watch for 
 a confirmation from Citrix with a link to join us.\nIf you have diffic
 ulty registering, contact Larry Walters at repeal_16@earthlink.net.\n
 \n\nFor more information visit http://www.fairtaxnation.com/events/twi
 tter-basic-training-webinar
DTSTART;TZID=America/Cancun:20140729T200000
DTEND;TZID=America/Cancun:20140729T210000
CATEGORIES:webinar
LOCATION:Your choice w/your PC and internet access
WEBSITE:http://www.fairtax.org
URL:http://www.fairtax.org
CONTACT:407-949-2959
ORGANIZER;CN="Larry Walters":http://www.fairtaxnation.com/profile/Larr
 yWalters
ATTACH;FMTTYPE="image/jpeg":
ATTENDEE;ROLE=REQ-PARTICIPANT;PARTSTAT=ACCEPTED;RSVP=TRUE;CN="Larry Wa
 lters":http://www.fairtaxnation.com/profile/LarryWalters
END:VEVENT
END:VCALENDAR
