BEGIN:VCALENDAR
PRODID:NingEventWidget-v1
VERSION:2.0
METHOD:PUBLISH
BEGIN:VTIMEZONE
TZID:America/Cancun
X-LIC-LOCATION:America/Cancun
BEGIN:DAYLIGHT
TZOFFSETFROM:-0600
TZOFFSETTO:-0500
TZNAME:CDT
DTSTART:19700405T020000
RRULE:FREQ=YEARLY;BYMONTH=4;BYDAY=1SU
END:DAYLIGHT
BEGIN:STANDARD
TZOFFSETFROM:-0500
TZOFFSETTO:-0600
TZNAME:CST
DTSTART:19701025T020000
RRULE:FREQ=YEARLY;BYMONTH=10;BYDAY=-1SU
END:STANDARD
END:VTIMEZONE
BEGIN:VEVENT
UID:2636007:Event:160393
DTSTAMP:20260424T052139Z
SUMMARY:Understanding The FairTax
DESCRIPTION:WHAT:  “Understanding the FairTax” webinar for Januar
 y 2012 and\nSPECIAL TOPIC:  How the FairTax Neutralizes the Tax Lobby
 ist\nWHEN: Thursday, January 26 , 2012  TIME:  8 – 9:00pm Eastern T
 ime WHERE:  Your home, your Personal Computer WHY:  To provide an in
 teractive forum for people who cannot get to local meetings to learn a
 bout the FairTax and to present Special Topics that are frequently mis
 understood or not generally discussed. Education is the weapon of the 
 FairTax grassroots organizations and we are Educating the Nation on th
 e web.\nIn our third year producing the “Understanding the FairTax
  webinars, your growing participation has been instrumental in educat
 ing more supporters and bringing new supporters to a better understand
 ing of the FairTax.  Thank you all for your participation.  Let's ma
 ke 2012 a year that goes down in the history books as our second succe
 ssful revolution.\nJoin Marc Manieri, AFFT & FFTEA Webinar Producer & 
 Host from Orlando, Florida.  Marc’s webinars draw national particip
 ation from seasoned FairTax supporters as well as those just getting s
 tarted.  We help build the knowledge base of those on the front lines
  as well as those wanting to know what the FairTax is about.  We educ
 ate candidates and sitting Congressional Representatives on the merits
  of the FairTax.\nNOTICE:  To participate it is necessary to pre-regi
 ster at this web link:\n https://www2.gotomeeting.com/register/5858179
 78  Watch for a confirmation email with instructions for logging on. 
 \nIf this is your first participation, when you log on you’ll be as
 ked to download GoToWebinar software which will allow you to join us.
 \nFor additional information contact Marc Manieri, 407-719-5117 or La
 rry Walters at repeal_16@earthlink.net.\n \n\nFor more information vi
 sit http://www.fairtaxnation.com/events/understanding-the-fairtax-12
DTSTART;TZID=America/Cancun:20120126T200000
DTEND;TZID=America/Cancun:20120126T210000
CATEGORIES:webinar
LOCATION:Your Home, Your PC, Your Coffee
WEBSITE:http://www.fairtax.org/site/Clubs?club_id=1040&pg=main
URL:http://www.fairtax.org/site/Clubs?club_id=1040&pg=main
CONTACT:407-949-2959 / 407-719-5117
ORGANIZER:Larry Walters / Marc Manieri
ATTACH;FMTTYPE="image/jpeg":
ATTENDEE;ROLE=REQ-PARTICIPANT;PARTSTAT=ACCEPTED;RSVP=TRUE;CN="Larry Wa
 lters":http://www.fairtaxnation.com/profile/LarryWalters
END:VEVENT
END:VCALENDAR
