BEGIN:VCALENDAR
PRODID:NingEventWidget-v1
VERSION:2.0
METHOD:PUBLISH
BEGIN:VTIMEZONE
TZID:America/Cancun
X-LIC-LOCATION:America/Cancun
BEGIN:DAYLIGHT
TZOFFSETFROM:-0600
TZOFFSETTO:-0500
TZNAME:CDT
DTSTART:19700405T020000
RRULE:FREQ=YEARLY;BYMONTH=4;BYDAY=1SU
END:DAYLIGHT
BEGIN:STANDARD
TZOFFSETFROM:-0500
TZOFFSETTO:-0600
TZNAME:CST
DTSTART:19701025T020000
RRULE:FREQ=YEARLY;BYMONTH=10;BYDAY=-1SU
END:STANDARD
END:VTIMEZONE
BEGIN:VEVENT
UID:2636007:Event:182880
DTSTAMP:20260423T232212Z
SUMMARY:Understanding the FairTax
DESCRIPTION:WHAT:  “Understanding the FairTax” Webinar for July 2
 013 and SPECIAL TOPIC:  “History of the income tax”\nWith guest p
 resenter Paul Livingston, District Director from Jacksonville, Florida
 \nWe are refocusing our efforts to “eliminating the IRS” & “repe
 aling the 16th” amendment”.\n \nOur pressure as voters must be ex
 erted on every House & Senate member.  The efforts of the grass roots
  are vital to win this war against an intrusive tax system and a polit
 ical body, the IRS, that uses its power to injure many of us but can a
 ttack any of us. \nIf you are not sure of why an income tax is very u
 ndesirable, be sure to attend this LIVE webinar event and ask question
 s of those who know.\nWHEN: Thursday, July 25, 2013TIME:  8 p.m. East
 ern, 7 p.m. Central, 6 p.m. Mountain, 5 p.m. PacificWHERE:  Anywhere 
 your Personal Computer has internet accessWHY:  To provide an interac
 tive forum for people to learn about the FairTax and to present Specia
 l Topics that are frequently misunderstood or not generally discussed.
  Education is critical for the FairTax grassroots organizations and we
  are Educating the Nation on the web.\n \nThis is a LIVE EVENT. You c
 an submit questions, and all questions will be answered.\n \nJoin Lar
 ry Walters, District Director and AFFT/FFTEA Webinar Producer & Host f
 rom Orlando, Florida.  \nOur webinars draw national participation fro
 m seasoned FairTax supporters as well as those just getting started. 
 We help build the knowledge base of those on the front lines as well 
 as those wanting to know what the FairTax is about. \n \nNOTICE:  T
 o participate it is necessary to pre-register at this web link:\nhttps
 ://www2.gotomeeting.com/register/168172778\nWatch for a confirmation e
 mail with instructions for logging on.\n  \nYou may be asked to dow
 nload GoToWebinar software which will allow you to join us. \nFor add
 itional information contact Larry Walters at repeal_16@earthlink.net.\
 n\nFor more information visit http://www.fairtaxnation.com/events/unde
 rstanding-the-fairtax-16
DTSTART;TZID=America/Cancun:20130725T200000
DTEND;TZID=America/Cancun:20130725T210000
CATEGORIES:webinar
LOCATION:Your place of convenience with internet access
WEBSITE:http://www.fairtax.org/greater-orlando
URL:http://www.fairtax.org/greater-orlando
CONTACT:407-949-2959
ORGANIZER;CN="Larry Walters":http://www.fairtaxnation.com/profile/Larr
 yWalters
ATTACH;FMTTYPE="image/jpeg":
ATTENDEE;ROLE=REQ-PARTICIPANT;PARTSTAT=ACCEPTED;RSVP=TRUE;CN="Larry Wa
 lters":http://www.fairtaxnation.com/profile/LarryWalters
END:VEVENT
END:VCALENDAR
