BEGIN:VCALENDAR
PRODID:NingEventWidget-v1
VERSION:2.0
METHOD:PUBLISH
BEGIN:VTIMEZONE
TZID:America/Cancun
X-LIC-LOCATION:America/Cancun
BEGIN:DAYLIGHT
TZOFFSETFROM:-0600
TZOFFSETTO:-0500
TZNAME:CDT
DTSTART:19700405T020000
RRULE:FREQ=YEARLY;BYMONTH=4;BYDAY=1SU
END:DAYLIGHT
BEGIN:STANDARD
TZOFFSETFROM:-0500
TZOFFSETTO:-0600
TZNAME:CST
DTSTART:19701025T020000
RRULE:FREQ=YEARLY;BYMONTH=10;BYDAY=-1SU
END:STANDARD
END:VTIMEZONE
BEGIN:VEVENT
UID:2636007:Event:184799
DTSTAMP:20260424T030507Z
SUMMARY:Understanding the FairTax
DESCRIPTION:WHAT:  “Understanding the FairTax” Webinar for Oct. 2
 013 and  SPECIAL TOPIC:  “How to get involved: what YOU can do to h
 elp carry the FairTax torch and further this crucial grassroots moveme
 nt”.\n \nWe are focusing our efforts to “End the IRS” & “Repe
 al the 16th”\nOur pressure as voters must be exerted on every House 
 & Senate member, especially House Ways and Means members NOW.\nWHEN: T
 hursday, Oct. 24, 2013  TIME:  8 p.m. Eastern, 7 p.m. Central, 6 p.m.
  Mountain, 5 p.m. Pacific  WHERE:  Anywhere your Personal Computer ha
 s internet access  This is a LIVE EVENT. You can ask questions, and al
 l questions will be answered.\nBring more participants to this months 
 and every month’s webinar.\nJoin Marc Manieri, Webinar Producer & Ho
 st from Orlando, Florida.  Our webinars are vital to educating honest
  tax payers.   We help build the knowledge base of those on the front
  lines as well as those wanting to know what the FairTax is about.\nNO
 TICE:  To participate it is necessary to pre-register at this web lin
 k:\nhttps://www2.gotomeeting.com/register/428445226\n Watch for a conf
 irmation email with instructions for logging on.\nFor additional infor
 mation contact Larry Walters at repeal_16@earthlink.net.\n\nFor more i
 nformation visit http://www.fairtaxnation.com/events/understanding-the
 -fairtax-17
DTSTART;TZID=America/Cancun:20131024T200000
DTEND;TZID=America/Cancun:20131024T210000
CATEGORIES:webinar
LOCATION:Your comfort zone and an Internet connection
WEBSITE:http://www.flfairtax.org
URL:http://www.flfairtax.org
CONTACT:404-949-2959
ORGANIZER;CN="Larry Walters":http://www.fairtaxnation.com/profile/Larr
 yWalters
ATTACH;FMTTYPE="image/jpeg":
ATTENDEE;ROLE=REQ-PARTICIPANT;PARTSTAT=ACCEPTED;RSVP=TRUE;CN="Larry Wa
 lters":http://www.fairtaxnation.com/profile/LarryWalters
END:VEVENT
END:VCALENDAR
