BEGIN:VCALENDAR
PRODID:NingEventWidget-v1
VERSION:2.0
METHOD:PUBLISH
BEGIN:VTIMEZONE
TZID:America/Cancun
X-LIC-LOCATION:America/Cancun
BEGIN:DAYLIGHT
TZOFFSETFROM:-0600
TZOFFSETTO:-0500
TZNAME:CDT
DTSTART:19700405T020000
RRULE:FREQ=YEARLY;BYMONTH=4;BYDAY=1SU
END:DAYLIGHT
BEGIN:STANDARD
TZOFFSETFROM:-0500
TZOFFSETTO:-0600
TZNAME:CST
DTSTART:19701025T020000
RRULE:FREQ=YEARLY;BYMONTH=10;BYDAY=-1SU
END:STANDARD
END:VTIMEZONE
BEGIN:VEVENT
UID:2636007:Event:98286
DTSTAMP:20260424T081844Z
SUMMARY:Understanding The FairTax Webinar for April 2010
DESCRIPTION:WHAT: Understanding the FairTax webinar for April 2010 and
 \n\nSPECIAL TOPIC: Why the FairTax is a Progressive Tax\n\nWHEN: Thurs
 day Apr. 22, 2010\n\nTIME: 8 – 9:00pm Eastern Time\n7 – 8:00pm Cen
 tral, 6 – 7:00 Mountain, 5 – 6:00 Pacific\n\nWHERE: Your home, you
 r Personal Computer\n\nWHY: To provide an interactive forum for people
  who cannot get to local meetings to learn about the FairTax and to pr
 esent Special Topics that are frequently misunderstood or not generall
 y discussed. Education is the weapon of the FairTax grassroots organiz
 ations and we are Educating the Nation on the web.\n\n2010 is a pivota
 l year with extremely important mid term elections. We have a window f
 rom now until the end of October to educate enough people about the Fa
 irTax to get candidates who are FairTax supporters elected.\n\nJoin Ma
 rc Manieri, Americans for Fair Taxation Community Coordinator in the G
 reater Orlando, Florida Area. Marc’s webinars are drawing national p
 articipation from seasoned FairTax supporters as well as those just ge
 tting started as a supporter. We help build the knowledge base of thos
 e on the front lines as well as those wanting to know what the FairTax
  is about. We educate candidates and sitting Congressional Representat
 ives on the merits of the FairTax.\n\nMany participants have asked Mar
 c if the presentation is available to them. The answer is yes. Marc se
 nds an email to each participant following the webinar. Just reply ask
 ing for the Power Point presentation and notes. Marc will email it to 
 you.\n\nTo participate it is necessary to pre-register at this web lin
 k\nhttps://www2.gotomeeting.com/register/176824058\n\nYou will receive
  a confirmation email with instructions for signing in at the time of 
 the Webinar.\nFor additional information contact Marc Manieri, 407-719
 -5117.\n\nFor more information visit http://www.fairtaxnation.com/even
 ts/understanding-the-fairtax-8
DTSTART;TZID=America/Cancun:20100422T200000
DTEND;TZID=America/Cancun:20100422T210000
CATEGORIES:webinar
LOCATION:Your Home, Your PC, Your Coffee
WEBSITE:https://www2.gotomeeting.com/register/176824058
URL:https://www2.gotomeeting.com/register/176824058
CONTACT:407-719-5117 / 407-949-2959
ORGANIZER:Marc Manieri / Larry Walters
ATTACH;FMTTYPE="image/jpeg":
ATTENDEE;ROLE=REQ-PARTICIPANT;PARTSTAT=ACCEPTED;RSVP=TRUE;CN="Larry Wa
 lters":http://www.fairtaxnation.com/profile/LarryWalters
ATTENDEE;ROLE=REQ-PARTICIPANT;PARTSTAT=TENTATIVE;RSVP=TRUE;CN=norwegia
 nwood:http://www.fairtaxnation.com/profile/norwegianwood
END:VEVENT
END:VCALENDAR
