BEGIN:VCALENDAR
PRODID:NingEventWidget-v1
VERSION:2.0
METHOD:PUBLISH
BEGIN:VTIMEZONE
TZID:America/Cancun
X-LIC-LOCATION:America/Cancun
BEGIN:DAYLIGHT
TZOFFSETFROM:-0600
TZOFFSETTO:-0500
TZNAME:CDT
DTSTART:19700405T020000
RRULE:FREQ=YEARLY;BYMONTH=4;BYDAY=1SU
END:DAYLIGHT
BEGIN:STANDARD
TZOFFSETFROM:-0500
TZOFFSETTO:-0600
TZNAME:CST
DTSTART:19701025T020000
RRULE:FREQ=YEARLY;BYMONTH=10;BYDAY=-1SU
END:STANDARD
END:VTIMEZONE
BEGIN:VEVENT
UID:2636007:Event:186170
DTSTAMP:20260421T113602Z
SUMMARY:Understanding the FairTax-April 2014 Webinar
DESCRIPTION:WHAT:  “Understanding the FairTax” Webinar for Apr. 2
 014 and SPECIAL TOPIC:  “The effect on seniors and retired people
 .\nWHEN: Thursday Apr. 24, 2014  TIME:  8 p.m. Eastern, 7 p.m. Centr
 al, 6 p.m. Mountain, and 5 p.m. Pacific  WHERE:  Anywhere your Person
 al Computer has internet access  This is a LIVE EVENT.  You can ask q
 uestions, and all questions will be answered.\nBring more participants
  to this months and every month’s webinar. \nJoin Marc Manieri, Web
 inar Producer & Host from Orlando, Florida.  \nOur webinars are vital
  to educating honest tax payers.  We help build the knowledge base of
  those on the front lines as well as those wanting to know what the Fa
 irTax is about. \nNOTICE:  To participate it is necessary to pre-reg
 ister at this web link:\n https://www2.gotomeeting.com/register/291653
 970\n Watch for a confirmation email with instructions for logging on.
 \nWhen you log on you may be asked to download GoToWebinar software wh
 ich will allow you to join us. \nFor additional information contact L
 arry Walters at repeal_16@earthlink.net.\n \n\n\nFor more information
  visit http://www.fairtaxnation.com/events/understanding-the-fairtax-a
 pril-2014-webinar
DTSTART;TZID=America/Cancun:20140424T200000
DTEND;TZID=America/Cancun:20140424T210000
CATEGORIES:webinar
LOCATION:Anywhere with internet access
WEBSITE:
URL:
CONTACT:407-949-2959
ORGANIZER;CN="Larry Walters":http://www.fairtaxnation.com/profile/Larr
 yWalters
ATTACH;FMTTYPE="image/jpeg":http://storage.ning.com/topology/rest/1.0/
 file/get/1080614938?profile=original
ATTENDEE;ROLE=REQ-PARTICIPANT;PARTSTAT=ACCEPTED;RSVP=TRUE;CN="Larry Wa
 lters":http://www.fairtaxnation.com/profile/LarryWalters
END:VEVENT
END:VCALENDAR
