BEGIN:VCALENDAR
PRODID:NingEventWidget-v1
VERSION:2.0
METHOD:PUBLISH
BEGIN:VTIMEZONE
TZID:America/Cancun
X-LIC-LOCATION:America/Cancun
BEGIN:DAYLIGHT
TZOFFSETFROM:-0600
TZOFFSETTO:-0500
TZNAME:CDT
DTSTART:19700405T020000
RRULE:FREQ=YEARLY;BYMONTH=4;BYDAY=1SU
END:DAYLIGHT
BEGIN:STANDARD
TZOFFSETFROM:-0500
TZOFFSETTO:-0600
TZNAME:CST
DTSTART:19701025T020000
RRULE:FREQ=YEARLY;BYMONTH=10;BYDAY=-1SU
END:STANDARD
END:VTIMEZONE
BEGIN:VEVENT
UID:2636007:Event:192235
DTSTAMP:20260425T082624Z
SUMMARY:\"Understanding the FAIRtax\" Aug. 2015 Webinar
DESCRIPTION:WHAT: “Understanding the FAIRtax®” Webinar for Aug 20
 15 and\nSPECIAL TOPIC:  “Flat Tax/FAIRtax, What Some Candidates Are
  Saying”.\nOur pressure as voters must be exerted on every House Way
 s and Means Committee member.\nWHEN: Thursday Aug. 27, 2015\nTIME:  8
  p.m. Eastern, 7 p.m. Central, 6 p.m. Mountain, and 5 p.m. Pacific\nWH
 ERE:  Anywhere your Personal Computer has internet access\nThis is a 
 LIVE EVENT.  You can ask questions, and all questions will be answere
 d.\nDon’t forget to invite new FAIRtax supporters & prospects to par
 ticipate with you.\nOur webinars are vital to educating honest tax pay
 ers.  We help build the knowledge base of those on the front lines as
  well as those wanting to know what the FAIRtax is about.\nJoin Marc M
 anieri as he returns as Host and Presenter of the “Understanding the
  FairTax” webinar series.\nNOTICE:  To participate it is necessary 
 to pre-register at this web link:\n\nhttps://attendee.gotowebinar.com/
 register/1691447274748482050 \nWatch for a confirmation email with ins
 tructions for logging on.\nFor additional information contact Larry Wa
 lters at repeal_16@earthlink.net\n\nFor more information visit http://
 www.fairtaxnation.com/events/understanding-the-fairtax-aug-2015-webina
 r
DTSTART;TZID=America/Cancun:20150827T200000
DTEND;TZID=America/Cancun:20150827T210000
CATEGORIES:webinar
LOCATION:Your PC/Mac with internet connection
WEBSITE:http://www.fairtax.org
URL:http://www.fairtax.org
CONTACT:407-949-2959
ORGANIZER;CN="Larry Walters":http://www.fairtaxnation.com/profile/Larr
 yWalters
ATTACH;FMTTYPE="image/jpeg":http://storage.ning.com/topology/rest/1.0/
 file/get/1080614969?profile=original
ATTENDEE;ROLE=REQ-PARTICIPANT;PARTSTAT=ACCEPTED;RSVP=TRUE;CN="Larry Wa
 lters":http://www.fairtaxnation.com/profile/LarryWalters
END:VEVENT
END:VCALENDAR
